BEGIN:VCALENDAR
VERSION:2.0
PRODID:-//มูลนิธิเพื่อการศึกษาพิเศษในพระราชูปถัมภ์ฯ - Special Education Foundation, Thailand - ECPv5.14.1//NONSGML v1.0//EN
CALSCALE:GREGORIAN
METHOD:PUBLISH
X-WR-CALNAME:มูลนิธิเพื่อการศึกษาพิเศษในพระราชูปถัมภ์ฯ - Special Education Foundation, Thailand
X-ORIGINAL-URL:https://specialedfoundation.com
X-WR-CALDESC:Events for มูลนิธิเพื่อการศึกษาพิเศษในพระราชูปถัมภ์ฯ - Special Education Foundation, Thailand
REFRESH-INTERVAL;VALUE=DURATION:PT1H
X-Robots-Tag:noindex
X-PUBLISHED-TTL:PT1H
BEGIN:VTIMEZONE
TZID:Asia/Bangkok
BEGIN:STANDARD
TZOFFSETFROM:+0700
TZOFFSETTO:+0700
TZNAME:+07
DTSTART:20220101T000000
END:STANDARD
END:VTIMEZONE
BEGIN:VEVENT
DTSTART;TZID=Asia/Bangkok:20220220T130000
DTEND;TZID=Asia/Bangkok:20220220T150000
DTSTAMP:20260424T051234
CREATED:20220417T160953Z
LAST-MODIFIED:20220417T162129Z
UID:13022-1645362000-1645369200@specialedfoundation.com
SUMMARY:โครงการอบรมผู้ปกครอง เรื่อง "การเตรียมความพร้อมด้านภาษาและการพัฒนาพฤติกรรมเชิงบวก สำหรับเด็กปฐมวัยที่ใช้ประสาทหูเทียม" - สัปดาห์ที่ 3
DESCRIPTION:มูลนิธิเพื่อการศึกษาพิเศษในพระราชูปถัมภ์สมเด็จพระเทพรัตนราชสุดาฯ สยามบรมราชกุมารี ร่วมกับ บัณฑิตวิทยาลัย มหาวิทยาลัยศรีนครินทรวิโรฒ จัดทำโครงการอบรมผู้ปกครอง เรื่อง “การเตรียมความพร้อมด้านภาษาและการพัฒนาพฤติกรรมเชิงบวก สำหรับเด็กปฐมวัยที่ใช้ประสาทหูเทียม” โดยจะมีการอบรมในทุกวันอาทิตย์ เวลา 13.00-15.00 น. ทางโปรแกรม Zoom ตั้งแต่วันอาทิตย์ที่ 6 กุมภาพันธ์ ถึง 13 มีนาคม 2565 \nสัปดาห์ที่ 3 หัวข้อ “การเตรียมความพร้อมด้านทักษะทางสังคม” โดย ดร.รัมภาศรี สุคนธมาน \nTopic: อบรมผู้ปกครอง มูลนิธิเพื่อการศึกษาพิเศษ #3 \nวันอาทิตย์ที่ 20 กุมภาพันธ์ 2565 เวลา 13.00-15.00 น. \nhttps://unco.zoom.us/j/94489238918 \nMeeting ID: 944 8923 8918 \n***การเข้ารับการอบรม ไม่เสียค่าใช้จ่ายและขอให้ผู้ปกครองที่สนใจเข้าการอบรมอย่างต่อเนื่องจนจบทุกครั้ง***
URL:https://specialedfoundation.com/event/%e0%b9%82%e0%b8%84%e0%b8%a3%e0%b8%87%e0%b8%81%e0%b8%b2%e0%b8%a3%e0%b8%ad%e0%b8%9a%e0%b8%a3%e0%b8%a1%e0%b8%9c%e0%b8%b9%e0%b9%89%e0%b8%9b%e0%b8%81%e0%b8%84%e0%b8%a3%e0%b8%ad%e0%b8%87-%e0%b9%80-3/
CATEGORIES:งานและกิจกรรม
END:VEVENT
END:VCALENDAR