BEGIN:VCALENDAR
VERSION:2.0
PRODID:-//มูลนิธิเพื่อการศึกษาพิเศษในพระราชูปถัมภ์ฯ - Special Education Foundation, Thailand - ECPv5.14.1//NONSGML v1.0//EN
CALSCALE:GREGORIAN
METHOD:PUBLISH
X-WR-CALNAME:มูลนิธิเพื่อการศึกษาพิเศษในพระราชูปถัมภ์ฯ - Special Education Foundation, Thailand
X-ORIGINAL-URL:https://specialedfoundation.com
X-WR-CALDESC:Events for มูลนิธิเพื่อการศึกษาพิเศษในพระราชูปถัมภ์ฯ - Special Education Foundation, Thailand
REFRESH-INTERVAL;VALUE=DURATION:PT1H
X-Robots-Tag:noindex
X-PUBLISHED-TTL:PT1H
BEGIN:VTIMEZONE
TZID:Asia/Bangkok
BEGIN:STANDARD
TZOFFSETFROM:+0700
TZOFFSETTO:+0700
TZNAME:+07
DTSTART:20230101T000000
END:STANDARD
END:VTIMEZONE
BEGIN:VEVENT
DTSTART;VALUE=DATE:20230114
DTEND;VALUE=DATE:20230115
DTSTAMP:20260423T055154
CREATED:20230110T023528Z
LAST-MODIFIED:20230110T023528Z
UID:13615-1673654400-1673740799@specialedfoundation.com
SUMMARY:วันเด็ก / วันอนุรักษ์ทรัพยากรป่าไม้ของชาติ
DESCRIPTION:วันเด็ก / วันอนุรักษ์ทรัพยากรป่าไม้ของชาติ
URL:https://specialedfoundation.com/event/%e0%b8%a7%e0%b8%b1%e0%b8%99%e0%b9%80%e0%b8%94%e0%b9%87%e0%b8%81-%e0%b8%a7%e0%b8%b1%e0%b8%99%e0%b8%ad%e0%b8%99%e0%b8%b8%e0%b8%a3%e0%b8%b1%e0%b8%81%e0%b8%a9%e0%b9%8c%e0%b8%97%e0%b8%a3%e0%b8%b1/
CATEGORIES:วันสำคัญของไทย
END:VEVENT
END:VCALENDAR