BEGIN:VCALENDAR
VERSION:2.0
PRODID:-//มูลนิธิเพื่อการศึกษาพิเศษในพระราชูปถัมภ์ฯ - Special Education Foundation, Thailand - ECPv5.14.1//NONSGML v1.0//EN
CALSCALE:GREGORIAN
METHOD:PUBLISH
X-WR-CALNAME:มูลนิธิเพื่อการศึกษาพิเศษในพระราชูปถัมภ์ฯ - Special Education Foundation, Thailand
X-ORIGINAL-URL:https://specialedfoundation.com
X-WR-CALDESC:Events for มูลนิธิเพื่อการศึกษาพิเศษในพระราชูปถัมภ์ฯ - Special Education Foundation, Thailand
REFRESH-INTERVAL;VALUE=DURATION:PT1H
X-Robots-Tag:noindex
X-PUBLISHED-TTL:PT1H
BEGIN:VTIMEZONE
TZID:Asia/Bangkok
BEGIN:STANDARD
TZOFFSETFROM:+0700
TZOFFSETTO:+0700
TZNAME:+07
DTSTART:20230101T000000
END:STANDARD
END:VTIMEZONE
BEGIN:VEVENT
DTSTART;VALUE=DATE:20230927
DTEND;VALUE=DATE:20230928
DTSTAMP:20260424T230351
CREATED:20230110T034756Z
LAST-MODIFIED:20230110T034756Z
UID:13816-1695772800-1695859199@specialedfoundation.com
SUMMARY:วันเกิด Google
DESCRIPTION:วันเกิด Google
URL:https://specialedfoundation.com/event/%e0%b8%a7%e0%b8%b1%e0%b8%99%e0%b9%80%e0%b8%81%e0%b8%b4%e0%b8%94-google/
CATEGORIES:วันสำคัญสากล
END:VEVENT
BEGIN:VEVENT
DTSTART;VALUE=DATE:20230922
DTEND;VALUE=DATE:20230923
DTSTAMP:20260424T230351
CREATED:20230110T034640Z
LAST-MODIFIED:20230110T034640Z
UID:13812-1695340800-1695427199@specialedfoundation.com
SUMMARY:วันคาร์ฟรีเดย์ (Car Free Day)
DESCRIPTION:วันคาร์ฟรีเดย์ (Car Free Day)
URL:https://specialedfoundation.com/event/%e0%b8%a7%e0%b8%b1%e0%b8%99%e0%b8%84%e0%b8%b2%e0%b8%a3%e0%b9%8c%e0%b8%9f%e0%b8%a3%e0%b8%b5%e0%b9%80%e0%b8%94%e0%b8%a2%e0%b9%8c-car-free-day-2/
CATEGORIES:วันสำคัญสากล
END:VEVENT
BEGIN:VEVENT
DTSTART;VALUE=DATE:20230921
DTEND;VALUE=DATE:20230922
DTSTAMP:20260424T230351
CREATED:20230110T034609Z
LAST-MODIFIED:20230110T034609Z
UID:13810-1695254400-1695340799@specialedfoundation.com
SUMMARY:วันประมงแห่งชาติ / วันสันติภาพโลก
DESCRIPTION:วันประมงแห่งชาติ / วันสันติภาพโลก
URL:https://specialedfoundation.com/event/%e0%b8%a7%e0%b8%b1%e0%b8%99%e0%b8%9b%e0%b8%a3%e0%b8%b0%e0%b8%a1%e0%b8%87%e0%b9%81%e0%b8%ab%e0%b9%88%e0%b8%87%e0%b8%8a%e0%b8%b2%e0%b8%95%e0%b8%b4-%e0%b8%a7%e0%b8%b1%e0%b8%99%e0%b8%aa%e0%b8%b1/
CATEGORIES:วันสำคัญของไทย,วันสำคัญสากล
END:VEVENT
BEGIN:VEVENT
DTSTART;VALUE=DATE:20230918
DTEND;VALUE=DATE:20230919
DTSTAMP:20260424T230351
CREATED:20230110T034449Z
LAST-MODIFIED:20230110T034449Z
UID:13803-1694995200-1695081599@specialedfoundation.com
SUMMARY:วันรักแรก (National First Love Day) / วันแพนด้าแดง
DESCRIPTION:วันรักแรก (National First Love Day) / วันแพนด้าแดง
URL:https://specialedfoundation.com/event/%e0%b8%a7%e0%b8%b1%e0%b8%99%e0%b8%a3%e0%b8%b1%e0%b8%81%e0%b9%81%e0%b8%a3%e0%b8%81-national-first-love-day-%e0%b8%a7%e0%b8%b1%e0%b8%99%e0%b9%81%e0%b8%9e%e0%b8%99%e0%b8%94%e0%b9%89%e0%b8%b2%e0%b9%81/
CATEGORIES:วันสำคัญสากล
END:VEVENT
BEGIN:VEVENT
DTSTART;VALUE=DATE:20230916
DTEND;VALUE=DATE:20230917
DTSTAMP:20260424T230351
CREATED:20230110T034411Z
LAST-MODIFIED:20230110T034411Z
UID:13801-1694822400-1694908799@specialedfoundation.com
SUMMARY:วันโอโซนโลก
DESCRIPTION:วันโอโซนโลก
URL:https://specialedfoundation.com/event/%e0%b8%a7%e0%b8%b1%e0%b8%99%e0%b9%82%e0%b8%ad%e0%b9%82%e0%b8%8b%e0%b8%99%e0%b9%82%e0%b8%a5%e0%b8%81/
CATEGORIES:วันสำคัญสากล
END:VEVENT
BEGIN:VEVENT
DTSTART;VALUE=DATE:20230910
DTEND;VALUE=DATE:20230911
DTSTAMP:20260424T230351
CREATED:20230110T034320Z
LAST-MODIFIED:20230110T034320Z
UID:13797-1694304000-1694390399@specialedfoundation.com
SUMMARY:วันป้องกันการฆ่าตัวตายโลก / วันกอดสุนัขแห่งชาติ
DESCRIPTION:วันป้องกันการฆ่าตัวตายโลก / วันกอดสุนัขแห่งชาติ
URL:https://specialedfoundation.com/event/%e0%b8%a7%e0%b8%b1%e0%b8%99%e0%b8%9b%e0%b9%89%e0%b8%ad%e0%b8%87%e0%b8%81%e0%b8%b1%e0%b8%99%e0%b8%81%e0%b8%b2%e0%b8%a3%e0%b8%86%e0%b9%88%e0%b8%b2%e0%b8%95%e0%b8%b1%e0%b8%a7%e0%b8%95%e0%b8%b2%e0%b8%a2/
CATEGORIES:วันสำคัญของไทย,วันสำคัญสากล
END:VEVENT
BEGIN:VEVENT
DTSTART;VALUE=DATE:20230903
DTEND;VALUE=DATE:20230904
DTSTAMP:20260424T230351
CREATED:20230110T034246Z
LAST-MODIFIED:20230110T034246Z
UID:13795-1693699200-1693785599@specialedfoundation.com
SUMMARY:วันเกิดโดราเอมอน
DESCRIPTION:วันเกิดโดราเอมอน
URL:https://specialedfoundation.com/event/%e0%b8%a7%e0%b8%b1%e0%b8%99%e0%b9%80%e0%b8%81%e0%b8%b4%e0%b8%94%e0%b9%82%e0%b8%94%e0%b8%a3%e0%b8%b2%e0%b9%80%e0%b8%ad%e0%b8%a1%e0%b8%ad%e0%b8%99/
CATEGORIES:วันสำคัญสากล
END:VEVENT
BEGIN:VEVENT
DTSTART;VALUE=DATE:20230830
DTEND;VALUE=DATE:20230831
DTSTAMP:20260424T230351
CREATED:20230110T034138Z
LAST-MODIFIED:20230110T034138Z
UID:13791-1693353600-1693439999@specialedfoundation.com
SUMMARY:วันสารทจีน
DESCRIPTION:วันสารทจีน
URL:https://specialedfoundation.com/event/%e0%b8%a7%e0%b8%b1%e0%b8%99%e0%b8%aa%e0%b8%b2%e0%b8%a3%e0%b8%97%e0%b8%88%e0%b8%b5%e0%b8%99/
CATEGORIES:วันสำคัญสากล
END:VEVENT
BEGIN:VEVENT
DTSTART;VALUE=DATE:20230826
DTEND;VALUE=DATE:20230827
DTSTAMP:20260424T230351
CREATED:20230110T034055Z
LAST-MODIFIED:20230110T034055Z
UID:13789-1693008000-1693094399@specialedfoundation.com
SUMMARY:วันสุนัขโลก
DESCRIPTION:วันสุนัขโลก
URL:https://specialedfoundation.com/event/%e0%b8%a7%e0%b8%b1%e0%b8%99%e0%b8%aa%e0%b8%b8%e0%b8%99%e0%b8%b1%e0%b8%82%e0%b9%82%e0%b8%a5%e0%b8%81/
CATEGORIES:วันสำคัญสากล
END:VEVENT
BEGIN:VEVENT
DTSTART;VALUE=DATE:20230817
DTEND;VALUE=DATE:20230818
DTSTAMP:20260424T230351
CREATED:20230110T033958Z
LAST-MODIFIED:20230110T033958Z
UID:13785-1692230400-1692316799@specialedfoundation.com
SUMMARY:วันยกย่องแมวดำ
DESCRIPTION:วันยกย่องแมวดำ
URL:https://specialedfoundation.com/event/%e0%b8%a7%e0%b8%b1%e0%b8%99%e0%b8%a2%e0%b8%81%e0%b8%a2%e0%b9%88%e0%b8%ad%e0%b8%87%e0%b9%81%e0%b8%a1%e0%b8%a7%e0%b8%94%e0%b8%b3/
CATEGORIES:วันสำคัญสากล
END:VEVENT
BEGIN:VEVENT
DTSTART;VALUE=DATE:20230813
DTEND;VALUE=DATE:20230814
DTSTAMP:20260424T230351
CREATED:20230110T033836Z
LAST-MODIFIED:20230110T033836Z
UID:13781-1691884800-1691971199@specialedfoundation.com
SUMMARY:วันคนถนัดซ้ายสากล
DESCRIPTION:วันคนถนัดซ้ายสากล
URL:https://specialedfoundation.com/event/%e0%b8%a7%e0%b8%b1%e0%b8%99%e0%b8%84%e0%b8%99%e0%b8%96%e0%b8%99%e0%b8%b1%e0%b8%94%e0%b8%8b%e0%b9%89%e0%b8%b2%e0%b8%a2%e0%b8%aa%e0%b8%b2%e0%b8%81%e0%b8%a5/
CATEGORIES:วันสำคัญสากล
END:VEVENT
BEGIN:VEVENT
DTSTART;VALUE=DATE:20230802
DTEND;VALUE=DATE:20230803
DTSTAMP:20260424T230351
CREATED:20230110T033625Z
LAST-MODIFIED:20230110T033625Z
UID:13773-1690934400-1691020799@specialedfoundation.com
SUMMARY:วันเข้าพรรษา
DESCRIPTION:วันเข้าพรรษา
URL:https://specialedfoundation.com/event/%e0%b8%a7%e0%b8%b1%e0%b8%99%e0%b9%80%e0%b8%82%e0%b9%89%e0%b8%b2%e0%b8%9e%e0%b8%a3%e0%b8%a3%e0%b8%a9%e0%b8%b2-2/
CATEGORIES:วันสำคัญของไทย,วันสำคัญสากล
END:VEVENT
BEGIN:VEVENT
DTSTART;VALUE=DATE:20230801
DTEND;VALUE=DATE:20230802
DTSTAMP:20260424T230351
CREATED:20230110T033554Z
LAST-MODIFIED:20230110T033554Z
UID:13771-1690848000-1690934399@specialedfoundation.com
SUMMARY:วันอาสาฬหบูชา / วันสตรีไทย
DESCRIPTION:วันอาสาฬหบูชา / วันสตรีไทย
URL:https://specialedfoundation.com/event/%e0%b8%a7%e0%b8%b1%e0%b8%99%e0%b8%ad%e0%b8%b2%e0%b8%aa%e0%b8%b2%e0%b8%ac%e0%b8%ab%e0%b8%9a%e0%b8%b9%e0%b8%8a%e0%b8%b2-%e0%b8%a7%e0%b8%b1%e0%b8%99%e0%b8%aa%e0%b8%95%e0%b8%a3%e0%b8%b5%e0%b9%84/
CATEGORIES:วันสำคัญของไทย,วันสำคัญสากล
END:VEVENT
BEGIN:VEVENT
DTSTART;VALUE=DATE:20230707
DTEND;VALUE=DATE:20230708
DTSTAMP:20260424T230351
CREATED:20230110T033116Z
LAST-MODIFIED:20230110T033116Z
UID:13763-1688688000-1688774399@specialedfoundation.com
SUMMARY:วันพูดความจริง
DESCRIPTION:วันพูดความจริง
URL:https://specialedfoundation.com/event/%e0%b8%a7%e0%b8%b1%e0%b8%99%e0%b8%9e%e0%b8%b9%e0%b8%94%e0%b8%84%e0%b8%a7%e0%b8%b2%e0%b8%a1%e0%b8%88%e0%b8%a3%e0%b8%b4%e0%b8%87/
CATEGORIES:วันสำคัญสากล
END:VEVENT
BEGIN:VEVENT
DTSTART;VALUE=DATE:20230706
DTEND;VALUE=DATE:20230707
DTSTAMP:20260424T230351
CREATED:20230110T033021Z
LAST-MODIFIED:20230110T033021Z
UID:13761-1688601600-1688687999@specialedfoundation.com
SUMMARY:วันจูบสากล
DESCRIPTION:วันจูบสากล
URL:https://specialedfoundation.com/event/%e0%b8%a7%e0%b8%b1%e0%b8%99%e0%b8%88%e0%b8%b9%e0%b8%9a%e0%b8%aa%e0%b8%b2%e0%b8%81%e0%b8%a5/
CATEGORIES:วันสำคัญสากล
END:VEVENT
BEGIN:VEVENT
DTSTART;VALUE=DATE:20230621
DTEND;VALUE=DATE:20230622
DTSTAMP:20260424T230351
CREATED:20230110T032609Z
LAST-MODIFIED:20230110T032609Z
UID:13749-1687305600-1687391999@specialedfoundation.com
SUMMARY:วันโยคะสากล
DESCRIPTION:วันโยคะสากล
URL:https://specialedfoundation.com/event/%e0%b8%a7%e0%b8%b1%e0%b8%99%e0%b9%82%e0%b8%a2%e0%b8%84%e0%b8%b0%e0%b8%aa%e0%b8%b2%e0%b8%81%e0%b8%a5/
CATEGORIES:วันสำคัญสากล
END:VEVENT
BEGIN:VEVENT
DTSTART;VALUE=DATE:20230620
DTEND;VALUE=DATE:20230621
DTSTAMP:20260424T230351
CREATED:20230110T032525Z
LAST-MODIFIED:20230110T032525Z
UID:13747-1687219200-1687305599@specialedfoundation.com
SUMMARY:วันผู้ลี้ภัยโลก
DESCRIPTION:วันผู้ลี้ภัยโลก
URL:https://specialedfoundation.com/event/%e0%b8%a7%e0%b8%b1%e0%b8%99%e0%b8%9c%e0%b8%b9%e0%b9%89%e0%b8%a5%e0%b8%b5%e0%b9%89%e0%b8%a0%e0%b8%b1%e0%b8%a2%e0%b9%82%e0%b8%a5%e0%b8%81/
CATEGORIES:วันสำคัญสากล
END:VEVENT
BEGIN:VEVENT
DTSTART;VALUE=DATE:20230617
DTEND;VALUE=DATE:20230618
DTSTAMP:20260424T230351
CREATED:20230110T032352Z
LAST-MODIFIED:20230110T032352Z
UID:13745-1686960000-1687046399@specialedfoundation.com
SUMMARY:วันต่อต้านปัญหาภัยแล้งและฝนแล้งของโลก
DESCRIPTION:วันต่อต้านปัญหาภัยแล้งและฝนแล้งของโลก
URL:https://specialedfoundation.com/event/%e0%b8%a7%e0%b8%b1%e0%b8%99%e0%b8%95%e0%b9%88%e0%b8%ad%e0%b8%95%e0%b9%89%e0%b8%b2%e0%b8%99%e0%b8%9b%e0%b8%b1%e0%b8%8d%e0%b8%ab%e0%b8%b2%e0%b8%a0%e0%b8%b1%e0%b8%a2%e0%b9%81%e0%b8%a5%e0%b9%89%e0%b8%87/
CATEGORIES:วันสำคัญสากล
END:VEVENT
BEGIN:VEVENT
DTSTART;VALUE=DATE:20230616
DTEND;VALUE=DATE:20230617
DTSTAMP:20260424T230351
CREATED:20230110T032237Z
LAST-MODIFIED:20230110T032237Z
UID:13743-1686873600-1686959999@specialedfoundation.com
SUMMARY:วันหยุดการกลั่นแกล้งบนโลกออนไลน์
DESCRIPTION:วันหยุดการกลั่นแกล้งบนโลกออนไลน์
URL:https://specialedfoundation.com/event/%e0%b8%a7%e0%b8%b1%e0%b8%99%e0%b8%ab%e0%b8%a2%e0%b8%b8%e0%b8%94%e0%b8%81%e0%b8%b2%e0%b8%a3%e0%b8%81%e0%b8%a5%e0%b8%b1%e0%b9%88%e0%b8%99%e0%b9%81%e0%b8%81%e0%b8%a5%e0%b9%89%e0%b8%87%e0%b8%9a%e0%b8%99/
CATEGORIES:วันสำคัญสากล
END:VEVENT
BEGIN:VEVENT
DTSTART;VALUE=DATE:20230612
DTEND;VALUE=DATE:20230613
DTSTAMP:20260424T230351
CREATED:20230110T032201Z
LAST-MODIFIED:20230110T032201Z
UID:13741-1686528000-1686614399@specialedfoundation.com
SUMMARY:วันต่อต้านการใช้แรงงานเด็กสากล
DESCRIPTION:วันต่อต้านการใช้แรงงานเด็กสากล
URL:https://specialedfoundation.com/event/%e0%b8%a7%e0%b8%b1%e0%b8%99%e0%b8%95%e0%b9%88%e0%b8%ad%e0%b8%95%e0%b9%89%e0%b8%b2%e0%b8%99%e0%b8%81%e0%b8%b2%e0%b8%a3%e0%b9%83%e0%b8%8a%e0%b9%89%e0%b9%81%e0%b8%a3%e0%b8%87%e0%b8%87%e0%b8%b2%e0%b8%99/
CATEGORIES:วันสำคัญสากล
END:VEVENT
BEGIN:VEVENT
DTSTART;VALUE=DATE:20230608
DTEND;VALUE=DATE:20230609
DTSTAMP:20260424T230351
CREATED:20230110T032037Z
LAST-MODIFIED:20230110T032037Z
UID:13735-1686182400-1686268799@specialedfoundation.com
SUMMARY:วันมหาสมุทรโลก หรือวันทะเลโลก / วันเพื่อนสนิทสากล
DESCRIPTION:วันมหาสมุทรโลก หรือวันทะเลโลก / วันเพื่อนสนิทสากล
URL:https://specialedfoundation.com/event/%e0%b8%a7%e0%b8%b1%e0%b8%99%e0%b8%a1%e0%b8%ab%e0%b8%b2%e0%b8%aa%e0%b8%a1%e0%b8%b8%e0%b8%97%e0%b8%a3%e0%b9%82%e0%b8%a5%e0%b8%81-%e0%b8%ab%e0%b8%a3%e0%b8%b7%e0%b8%ad%e0%b8%a7%e0%b8%b1%e0%b8%99%e0%b8%97/
CATEGORIES:วันสำคัญสากล
END:VEVENT
BEGIN:VEVENT
DTSTART;VALUE=DATE:20230607
DTEND;VALUE=DATE:20230608
DTSTAMP:20260424T230351
CREATED:20230110T032003Z
LAST-MODIFIED:20230110T032003Z
UID:13733-1686096000-1686182399@specialedfoundation.com
SUMMARY:วันวิ่งโลก
DESCRIPTION:วันวิ่งโลก
URL:https://specialedfoundation.com/event/%e0%b8%a7%e0%b8%b1%e0%b8%99%e0%b8%a7%e0%b8%b4%e0%b9%88%e0%b8%87%e0%b9%82%e0%b8%a5%e0%b8%81/
CATEGORIES:วันสำคัญสากล
END:VEVENT
BEGIN:VEVENT
DTSTART;VALUE=DATE:20230605
DTEND;VALUE=DATE:20230606
DTSTAMP:20260424T230351
CREATED:20230110T031926Z
LAST-MODIFIED:20230110T031926Z
UID:13731-1685923200-1686009599@specialedfoundation.com
SUMMARY:วันสิ่งแวดล้อมโลก
DESCRIPTION:วันสิ่งแวดล้อมโลก
URL:https://specialedfoundation.com/event/%e0%b8%a7%e0%b8%b1%e0%b8%99%e0%b8%aa%e0%b8%b4%e0%b9%88%e0%b8%87%e0%b9%81%e0%b8%a7%e0%b8%94%e0%b8%a5%e0%b9%89%e0%b8%ad%e0%b8%a1%e0%b9%82%e0%b8%a5%e0%b8%81-2/
CATEGORIES:วันสำคัญสากล
END:VEVENT
BEGIN:VEVENT
DTSTART;VALUE=DATE:20230603
DTEND;VALUE=DATE:20230604
DTSTAMP:20260424T230351
CREATED:20230110T031850Z
LAST-MODIFIED:20230110T031850Z
UID:13729-1685750400-1685836799@specialedfoundation.com
SUMMARY:วันวิสาขบูชา / วันเฉลิมพระชนมพรรษาสมเด็จพระนางเจ้าฯ พระบรมราชินี
DESCRIPTION:วันวิสาขบูชา / วันเฉลิมพระชนมพรรษาสมเด็จพระนางเจ้าฯ พระบรมราชินี
URL:https://specialedfoundation.com/event/%e0%b8%a7%e0%b8%b1%e0%b8%99%e0%b8%a7%e0%b8%b4%e0%b8%aa%e0%b8%b2%e0%b8%82%e0%b8%9a%e0%b8%b9%e0%b8%8a%e0%b8%b2-%e0%b8%a7%e0%b8%b1%e0%b8%99%e0%b9%80%e0%b8%89%e0%b8%a5%e0%b8%b4%e0%b8%a1%e0%b8%9e/
CATEGORIES:วันสำคัญของไทย,วันสำคัญสากล
END:VEVENT
BEGIN:VEVENT
DTSTART;VALUE=DATE:20230601
DTEND;VALUE=DATE:20230602
DTSTAMP:20260424T230351
CREATED:20230110T031755Z
LAST-MODIFIED:20230110T031755Z
UID:13727-1685577600-1685663999@specialedfoundation.com
SUMMARY:วันดื่มนมโลก
DESCRIPTION:วันดื่มนมโลก
URL:https://specialedfoundation.com/event/%e0%b8%a7%e0%b8%b1%e0%b8%99%e0%b8%94%e0%b8%b7%e0%b9%88%e0%b8%a1%e0%b8%99%e0%b8%a1%e0%b9%82%e0%b8%a5%e0%b8%81/
CATEGORIES:วันสำคัญสากล
END:VEVENT
BEGIN:VEVENT
DTSTART;VALUE=DATE:20230531
DTEND;VALUE=DATE:20230601
DTSTAMP:20260424T230351
CREATED:20230110T031531Z
LAST-MODIFIED:20230110T031531Z
UID:13724-1685491200-1685577599@specialedfoundation.com
SUMMARY:International Flight Attendant Day / วันงดสูบบุหรี่โลก
DESCRIPTION:International Flight Attendant Day / วันงดสูบบุหรี่โลก
URL:https://specialedfoundation.com/event/international-flight-attendant-day-%e0%b8%a7%e0%b8%b1%e0%b8%99%e0%b8%87%e0%b8%94%e0%b8%aa%e0%b8%b9%e0%b8%9a%e0%b8%9a%e0%b8%b8%e0%b8%ab%e0%b8%a3%e0%b8%b5%e0%b9%88%e0%b9%82%e0%b8%a5%e0%b8%81/
CATEGORIES:วันสำคัญสากล
END:VEVENT
BEGIN:VEVENT
DTSTART;VALUE=DATE:20230523
DTEND;VALUE=DATE:20230524
DTSTAMP:20260424T230351
CREATED:20230110T031416Z
LAST-MODIFIED:20230110T031416Z
UID:13722-1684800000-1684886399@specialedfoundation.com
SUMMARY:วันเต่าโลก
DESCRIPTION:วันเต่าโลก
URL:https://specialedfoundation.com/event/%e0%b8%a7%e0%b8%b1%e0%b8%99%e0%b9%80%e0%b8%95%e0%b9%88%e0%b8%b2%e0%b9%82%e0%b8%a5%e0%b8%81/
CATEGORIES:วันสำคัญสากล
END:VEVENT
BEGIN:VEVENT
DTSTART;TZID=Asia/Bangkok:20230522T080000
DTEND;TZID=Asia/Bangkok:20230522T170000
DTSTAMP:20260424T230351
CREATED:20230110T031347Z
LAST-MODIFIED:20230110T031603Z
UID:13719-1684742400-1684774800@specialedfoundation.com
SUMMARY:วันสากลแห่งความหลากหลายทางชีวภาพ (International Day for Biological Diversity)
DESCRIPTION:วันสากลแห่งความหลากหลายทางชีวภาพ (International Day for Biological Diversity)
URL:https://specialedfoundation.com/event/%e0%b8%a7%e0%b8%b1%e0%b8%99%e0%b8%84%e0%b8%a7%e0%b8%b2%e0%b8%a1%e0%b8%ab%e0%b8%a5%e0%b8%b2%e0%b8%81%e0%b8%ab%e0%b8%a5%e0%b8%b2%e0%b8%a2%e0%b8%97%e0%b8%b2%e0%b8%87%e0%b8%8a%e0%b8%b5%e0%b8%a7%e0%b8%a0/
CATEGORIES:วันสำคัญสากล
END:VEVENT
BEGIN:VEVENT
DTSTART;VALUE=DATE:20230521
DTEND;VALUE=DATE:20230522
DTSTAMP:20260424T230351
CREATED:20230110T031241Z
LAST-MODIFIED:20230110T031241Z
UID:13717-1684627200-1684713599@specialedfoundation.com
SUMMARY:วันชาสากล
DESCRIPTION:วันชาสากล
URL:https://specialedfoundation.com/event/%e0%b8%a7%e0%b8%b1%e0%b8%99%e0%b8%8a%e0%b8%b2%e0%b8%aa%e0%b8%b2%e0%b8%81%e0%b8%a5-2/
CATEGORIES:วันสำคัญสากล
END:VEVENT
BEGIN:VEVENT
DTSTART;VALUE=DATE:20230512
DTEND;VALUE=DATE:20230513
DTSTAMP:20260424T230351
CREATED:20230110T031148Z
LAST-MODIFIED:20230110T031148Z
UID:13713-1683849600-1683935999@specialedfoundation.com
SUMMARY:วันพยาบาลสากล
DESCRIPTION:วันพยาบาลสากล
URL:https://specialedfoundation.com/event/%e0%b8%a7%e0%b8%b1%e0%b8%99%e0%b8%9e%e0%b8%a2%e0%b8%b2%e0%b8%9a%e0%b8%b2%e0%b8%a5%e0%b8%aa%e0%b8%b2%e0%b8%81%e0%b8%a5/
CATEGORIES:วันสำคัญสากล
END:VEVENT
END:VCALENDAR