BEGIN:VCALENDAR
VERSION:2.0
PRODID:-//มูลนิธิเพื่อการศึกษาพิเศษในพระราชูปถัมภ์ฯ - Special Education Foundation, Thailand - ECPv5.14.1//NONSGML v1.0//EN
CALSCALE:GREGORIAN
METHOD:PUBLISH
X-WR-CALNAME:มูลนิธิเพื่อการศึกษาพิเศษในพระราชูปถัมภ์ฯ - Special Education Foundation, Thailand
X-ORIGINAL-URL:https://specialedfoundation.com
X-WR-CALDESC:Events for มูลนิธิเพื่อการศึกษาพิเศษในพระราชูปถัมภ์ฯ - Special Education Foundation, Thailand
REFRESH-INTERVAL;VALUE=DURATION:PT1H
X-Robots-Tag:noindex
X-PUBLISHED-TTL:PT1H
BEGIN:VTIMEZONE
TZID:Asia/Bangkok
BEGIN:STANDARD
TZOFFSETFROM:+0700
TZOFFSETTO:+0700
TZNAME:+07
DTSTART:20220101T000000
END:STANDARD
END:VTIMEZONE
BEGIN:VEVENT
DTSTART;VALUE=DATE:20230601
DTEND;VALUE=DATE:20230602
DTSTAMP:20260425T040043
CREATED:20230110T031755Z
LAST-MODIFIED:20230110T031755Z
UID:13727-1685577600-1685663999@specialedfoundation.com
SUMMARY:วันดื่มนมโลก
DESCRIPTION:วันดื่มนมโลก
URL:https://specialedfoundation.com/event/%e0%b8%a7%e0%b8%b1%e0%b8%99%e0%b8%94%e0%b8%b7%e0%b9%88%e0%b8%a1%e0%b8%99%e0%b8%a1%e0%b9%82%e0%b8%a5%e0%b8%81/
CATEGORIES:วันสำคัญสากล
END:VEVENT
BEGIN:VEVENT
DTSTART;VALUE=DATE:20230531
DTEND;VALUE=DATE:20230601
DTSTAMP:20260425T040043
CREATED:20230110T031531Z
LAST-MODIFIED:20230110T031531Z
UID:13724-1685491200-1685577599@specialedfoundation.com
SUMMARY:International Flight Attendant Day / วันงดสูบบุหรี่โลก
DESCRIPTION:International Flight Attendant Day / วันงดสูบบุหรี่โลก
URL:https://specialedfoundation.com/event/international-flight-attendant-day-%e0%b8%a7%e0%b8%b1%e0%b8%99%e0%b8%87%e0%b8%94%e0%b8%aa%e0%b8%b9%e0%b8%9a%e0%b8%9a%e0%b8%b8%e0%b8%ab%e0%b8%a3%e0%b8%b5%e0%b9%88%e0%b9%82%e0%b8%a5%e0%b8%81/
CATEGORIES:วันสำคัญสากล
END:VEVENT
BEGIN:VEVENT
DTSTART;VALUE=DATE:20230523
DTEND;VALUE=DATE:20230524
DTSTAMP:20260425T040043
CREATED:20230110T031416Z
LAST-MODIFIED:20230110T031416Z
UID:13722-1684800000-1684886399@specialedfoundation.com
SUMMARY:วันเต่าโลก
DESCRIPTION:วันเต่าโลก
URL:https://specialedfoundation.com/event/%e0%b8%a7%e0%b8%b1%e0%b8%99%e0%b9%80%e0%b8%95%e0%b9%88%e0%b8%b2%e0%b9%82%e0%b8%a5%e0%b8%81/
CATEGORIES:วันสำคัญสากล
END:VEVENT
BEGIN:VEVENT
DTSTART;TZID=Asia/Bangkok:20230522T080000
DTEND;TZID=Asia/Bangkok:20230522T170000
DTSTAMP:20260425T040043
CREATED:20230110T031347Z
LAST-MODIFIED:20230110T031603Z
UID:13719-1684742400-1684774800@specialedfoundation.com
SUMMARY:วันสากลแห่งความหลากหลายทางชีวภาพ (International Day for Biological Diversity)
DESCRIPTION:วันสากลแห่งความหลากหลายทางชีวภาพ (International Day for Biological Diversity)
URL:https://specialedfoundation.com/event/%e0%b8%a7%e0%b8%b1%e0%b8%99%e0%b8%84%e0%b8%a7%e0%b8%b2%e0%b8%a1%e0%b8%ab%e0%b8%a5%e0%b8%b2%e0%b8%81%e0%b8%ab%e0%b8%a5%e0%b8%b2%e0%b8%a2%e0%b8%97%e0%b8%b2%e0%b8%87%e0%b8%8a%e0%b8%b5%e0%b8%a7%e0%b8%a0/
CATEGORIES:วันสำคัญสากล
END:VEVENT
BEGIN:VEVENT
DTSTART;VALUE=DATE:20230521
DTEND;VALUE=DATE:20230522
DTSTAMP:20260425T040043
CREATED:20230110T031241Z
LAST-MODIFIED:20230110T031241Z
UID:13717-1684627200-1684713599@specialedfoundation.com
SUMMARY:วันชาสากล
DESCRIPTION:วันชาสากล
URL:https://specialedfoundation.com/event/%e0%b8%a7%e0%b8%b1%e0%b8%99%e0%b8%8a%e0%b8%b2%e0%b8%aa%e0%b8%b2%e0%b8%81%e0%b8%a5-2/
CATEGORIES:วันสำคัญสากล
END:VEVENT
BEGIN:VEVENT
DTSTART;VALUE=DATE:20230512
DTEND;VALUE=DATE:20230513
DTSTAMP:20260425T040043
CREATED:20230110T031148Z
LAST-MODIFIED:20230110T031148Z
UID:13713-1683849600-1683935999@specialedfoundation.com
SUMMARY:วันพยาบาลสากล
DESCRIPTION:วันพยาบาลสากล
URL:https://specialedfoundation.com/event/%e0%b8%a7%e0%b8%b1%e0%b8%99%e0%b8%9e%e0%b8%a2%e0%b8%b2%e0%b8%9a%e0%b8%b2%e0%b8%a5%e0%b8%aa%e0%b8%b2%e0%b8%81%e0%b8%a5/
CATEGORIES:วันสำคัญสากล
END:VEVENT
BEGIN:VEVENT
DTSTART;VALUE=DATE:20230508
DTEND;VALUE=DATE:20230509
DTSTAMP:20260425T040043
CREATED:20230110T031047Z
LAST-MODIFIED:20230110T031047Z
UID:13709-1683504000-1683590399@specialedfoundation.com
SUMMARY:วันกาชาดสากล
DESCRIPTION:วันกาชาดสากล
URL:https://specialedfoundation.com/event/%e0%b8%a7%e0%b8%b1%e0%b8%99%e0%b8%81%e0%b8%b2%e0%b8%8a%e0%b8%b2%e0%b8%94%e0%b8%aa%e0%b8%b2%e0%b8%81%e0%b8%a5-2/
CATEGORIES:วันสำคัญสากล
END:VEVENT
BEGIN:VEVENT
DTSTART;VALUE=DATE:20230429
DTEND;VALUE=DATE:20230430
DTSTAMP:20260425T040043
CREATED:20230110T030349Z
LAST-MODIFIED:20230110T030349Z
UID:13697-1682726400-1682812799@specialedfoundation.com
SUMMARY:วันเต้นรำสากล / วันคล้ายวันประสูติ เจ้าฟ้าทีปังกรรัศมีโชติฯ
DESCRIPTION:วันเต้นรำสากล / วันคล้ายวันประสูติ เจ้าฟ้าทีปังกรรัศมีโชติฯ
URL:https://specialedfoundation.com/event/%e0%b8%a7%e0%b8%b1%e0%b8%99%e0%b9%80%e0%b8%95%e0%b9%89%e0%b8%99%e0%b8%a3%e0%b8%b3%e0%b8%aa%e0%b8%b2%e0%b8%81%e0%b8%a5-%e0%b8%a7%e0%b8%b1%e0%b8%99%e0%b8%84%e0%b8%a5%e0%b9%89%e0%b8%b2%e0%b8%a2/
CATEGORIES:วันสำคัญของไทย,วันสำคัญสากล
END:VEVENT
BEGIN:VEVENT
DTSTART;VALUE=DATE:20230426
DTEND;VALUE=DATE:20230427
DTSTAMP:20260425T040043
CREATED:20230110T030309Z
LAST-MODIFIED:20230110T030309Z
UID:13695-1682467200-1682553599@specialedfoundation.com
SUMMARY:วันทรัพย์สินทางปัญญาโลก
DESCRIPTION:วันทรัพย์สินทางปัญญาโลก
URL:https://specialedfoundation.com/event/%e0%b8%a7%e0%b8%b1%e0%b8%99%e0%b8%97%e0%b8%a3%e0%b8%b1%e0%b8%9e%e0%b8%a2%e0%b9%8c%e0%b8%aa%e0%b8%b4%e0%b8%99%e0%b8%97%e0%b8%b2%e0%b8%87%e0%b8%9b%e0%b8%b1%e0%b8%8d%e0%b8%8d%e0%b8%b2%e0%b9%82%e0%b8%a5/
CATEGORIES:วันสำคัญสากล
END:VEVENT
BEGIN:VEVENT
DTSTART;VALUE=DATE:20230422
DTEND;VALUE=DATE:20230423
DTSTAMP:20260425T040043
CREATED:20230110T030132Z
LAST-MODIFIED:20230110T030132Z
UID:13689-1682121600-1682207999@specialedfoundation.com
SUMMARY:วันคุ้มครองโลก
DESCRIPTION:วันคุ้มครองโลก
URL:https://specialedfoundation.com/event/%e0%b8%a7%e0%b8%b1%e0%b8%99%e0%b8%84%e0%b8%b8%e0%b9%89%e0%b8%a1%e0%b8%84%e0%b8%a3%e0%b8%ad%e0%b8%87%e0%b9%82%e0%b8%a5%e0%b8%81-2/
CATEGORIES:วันสำคัญสากล
END:VEVENT
BEGIN:VEVENT
DTSTART;VALUE=DATE:20230414
DTEND;VALUE=DATE:20230415
DTSTAMP:20260425T040043
CREATED:20230110T025807Z
LAST-MODIFIED:20230110T025807Z
UID:13683-1681430400-1681516799@specialedfoundation.com
SUMMARY:วันครอบครัวไทย / วันสงกรานต์ / วันแบล็กเดย์
DESCRIPTION:วันครอบครัวไทย / วันสงกรานต์ / วันแบล็กเดย์
URL:https://specialedfoundation.com/event/%e0%b8%a7%e0%b8%b1%e0%b8%99%e0%b8%84%e0%b8%a3%e0%b8%ad%e0%b8%9a%e0%b8%84%e0%b8%a3%e0%b8%b1%e0%b8%a7%e0%b9%84%e0%b8%97%e0%b8%a2-%e0%b8%a7%e0%b8%b1%e0%b8%99%e0%b8%aa%e0%b8%87%e0%b8%81%e0%b8%a3/
CATEGORIES:วันสำคัญของไทย,วันสำคัญสากล
END:VEVENT
BEGIN:VEVENT
DTSTART;VALUE=DATE:20230407
DTEND;VALUE=DATE:20230408
DTSTAMP:20260425T040043
CREATED:20230110T025632Z
LAST-MODIFIED:20230110T025632Z
UID:13677-1680825600-1680911999@specialedfoundation.com
SUMMARY:วันอนามัยโลก
DESCRIPTION:วันอนามัยโลก
URL:https://specialedfoundation.com/event/%e0%b8%a7%e0%b8%b1%e0%b8%99%e0%b8%ad%e0%b8%99%e0%b8%b2%e0%b8%a1%e0%b8%b1%e0%b8%a2%e0%b9%82%e0%b8%a5%e0%b8%81/
CATEGORIES:วันสำคัญสากล
END:VEVENT
BEGIN:VEVENT
DTSTART;VALUE=DATE:20230401
DTEND;VALUE=DATE:20230402
DTSTAMP:20260425T040043
CREATED:20230110T025425Z
LAST-MODIFIED:20230110T025425Z
UID:13671-1680307200-1680393599@specialedfoundation.com
SUMMARY:วันออมสินของไทย / วันข้าราชการพลเรือน / วันโกหก / วันเลิกทาส
DESCRIPTION:วันออมสินของไทย / วันข้าราชการพลเรือน / วันโกหก / วันเลิกทาส
URL:https://specialedfoundation.com/event/%e0%b8%a7%e0%b8%b1%e0%b8%99%e0%b8%ad%e0%b8%ad%e0%b8%a1%e0%b8%aa%e0%b8%b4%e0%b8%99%e0%b8%82%e0%b8%ad%e0%b8%87%e0%b9%84%e0%b8%97%e0%b8%a2-%e0%b8%a7%e0%b8%b1%e0%b8%99%e0%b8%82%e0%b9%89%e0%b8%b2/
CATEGORIES:วันสำคัญของไทย,วันสำคัญสากล
END:VEVENT
BEGIN:VEVENT
DTSTART;VALUE=DATE:20230330
DTEND;VALUE=DATE:20230331
DTSTAMP:20260425T040043
CREATED:20230110T025307Z
LAST-MODIFIED:20230110T025307Z
UID:13667-1680134400-1680220799@specialedfoundation.com
SUMMARY:วันไบโพลาร์โลก
DESCRIPTION:วันไบโพลาร์โลก
URL:https://specialedfoundation.com/event/%e0%b8%a7%e0%b8%b1%e0%b8%99%e0%b9%84%e0%b8%9a%e0%b9%82%e0%b8%9e%e0%b8%a5%e0%b8%b2%e0%b8%a3%e0%b9%8c%e0%b9%82%e0%b8%a5%e0%b8%81/
CATEGORIES:วันสำคัญสากล
END:VEVENT
BEGIN:VEVENT
DTSTART;VALUE=DATE:20230323
DTEND;VALUE=DATE:20230324
DTSTAMP:20260425T040043
CREATED:20230110T025204Z
LAST-MODIFIED:20230110T025204Z
UID:13663-1679529600-1679615999@specialedfoundation.com
SUMMARY:วันอุตุนิยมวิทยาโลก / วันลูกหมาแห่งชาติ
DESCRIPTION:วันอุตุนิยมวิทยาโลก / วันลูกหมาแห่งชาติ
URL:https://specialedfoundation.com/event/%e0%b8%a7%e0%b8%b1%e0%b8%99%e0%b8%ad%e0%b8%b8%e0%b8%95%e0%b8%b8%e0%b8%99%e0%b8%b4%e0%b8%a2%e0%b8%a1%e0%b8%a7%e0%b8%b4%e0%b8%97%e0%b8%a2%e0%b8%b2%e0%b9%82%e0%b8%a5%e0%b8%81-%e0%b8%a7%e0%b8%b1/
CATEGORIES:วันสำคัญของไทย,วันสำคัญสากล
END:VEVENT
BEGIN:VEVENT
DTSTART;VALUE=DATE:20230322
DTEND;VALUE=DATE:20230323
DTSTAMP:20260425T040043
CREATED:20230110T025129Z
LAST-MODIFIED:20230110T025129Z
UID:13661-1679443200-1679529599@specialedfoundation.com
SUMMARY:วันอนุรักษ์น้ำโลก
DESCRIPTION:วันอนุรักษ์น้ำโลก
URL:https://specialedfoundation.com/event/%e0%b8%a7%e0%b8%b1%e0%b8%99%e0%b8%ad%e0%b8%99%e0%b8%b8%e0%b8%a3%e0%b8%b1%e0%b8%81%e0%b8%a9%e0%b9%8c%e0%b8%99%e0%b9%89%e0%b8%b3%e0%b9%82%e0%b8%a5%e0%b8%81/
CATEGORIES:วันสำคัญสากล
END:VEVENT
BEGIN:VEVENT
DTSTART;VALUE=DATE:20230321
DTEND;VALUE=DATE:20230322
DTSTAMP:20260425T040043
CREATED:20230110T025057Z
LAST-MODIFIED:20230110T025057Z
UID:13659-1679356800-1679443199@specialedfoundation.com
SUMMARY:วันกวีนิพนธ์สากล / วันป่าไม้โลก / วันดาวน์ซินโดรมโลก
DESCRIPTION:วันกวีนิพนธ์สากล / วันป่าไม้โลก / วันดาวน์ซินโดรมโลก
URL:https://specialedfoundation.com/event/%e0%b8%a7%e0%b8%b1%e0%b8%99%e0%b8%81%e0%b8%a7%e0%b8%b5%e0%b8%99%e0%b8%b4%e0%b8%9e%e0%b8%99%e0%b8%98%e0%b9%8c%e0%b8%aa%e0%b8%b2%e0%b8%81%e0%b8%a5-%e0%b8%a7%e0%b8%b1%e0%b8%99%e0%b8%9b%e0%b9%88/
CATEGORIES:วันสำคัญสากล
END:VEVENT
BEGIN:VEVENT
DTSTART;VALUE=DATE:20230320
DTEND;VALUE=DATE:20230321
DTSTAMP:20260425T040043
CREATED:20230110T025022Z
LAST-MODIFIED:20230110T025022Z
UID:13657-1679270400-1679356799@specialedfoundation.com
SUMMARY:วันอาสาสมัครสาธารณสุขแห่งชาติ / วันขอแต่งงาน / วันความสุขสากล
DESCRIPTION:วันอาสาสมัครสาธารณสุขแห่งชาติ / วันขอแต่งงาน / วันความสุขสากล
URL:https://specialedfoundation.com/event/%e0%b8%a7%e0%b8%b1%e0%b8%99%e0%b8%ad%e0%b8%b2%e0%b8%aa%e0%b8%b2%e0%b8%aa%e0%b8%a1%e0%b8%b1%e0%b8%84%e0%b8%a3%e0%b8%aa%e0%b8%b2%e0%b8%98%e0%b8%b2%e0%b8%a3%e0%b8%93%e0%b8%aa%e0%b8%b8%e0%b8%82%e0%b9%81/
CATEGORIES:วันสำคัญของไทย,วันสำคัญสากล
END:VEVENT
BEGIN:VEVENT
DTSTART;VALUE=DATE:20230318
DTEND;VALUE=DATE:20230319
DTSTAMP:20260425T040043
CREATED:20230110T024939Z
LAST-MODIFIED:20230110T024939Z
UID:13655-1679097600-1679183999@specialedfoundation.com
SUMMARY:วันนอนหลับโลก / วันรีไซเคิลโลก
DESCRIPTION:วันนอนหลับโลก / วันรีไซเคิลโลก
URL:https://specialedfoundation.com/event/%e0%b8%a7%e0%b8%b1%e0%b8%99%e0%b8%99%e0%b8%ad%e0%b8%99%e0%b8%ab%e0%b8%a5%e0%b8%b1%e0%b8%9a%e0%b9%82%e0%b8%a5%e0%b8%81-%e0%b8%a7%e0%b8%b1%e0%b8%99%e0%b8%a3%e0%b8%b5%e0%b9%84%e0%b8%8b%e0%b9%80/
CATEGORIES:วันสำคัญสากล
END:VEVENT
BEGIN:VEVENT
DTSTART;VALUE=DATE:20230315
DTEND;VALUE=DATE:20230316
DTSTAMP:20260425T040043
CREATED:20230110T024909Z
LAST-MODIFIED:20230110T024909Z
UID:13653-1678838400-1678924799@specialedfoundation.com
SUMMARY:วันสิทธิผู้บริโภคสากล
DESCRIPTION:วันสิทธิผู้บริโภคสากล
URL:https://specialedfoundation.com/event/%e0%b8%a7%e0%b8%b1%e0%b8%99%e0%b8%aa%e0%b8%b4%e0%b8%97%e0%b8%98%e0%b8%b4%e0%b8%9c%e0%b8%b9%e0%b9%89%e0%b8%9a%e0%b8%a3%e0%b8%b4%e0%b9%82%e0%b8%a0%e0%b8%84%e0%b8%aa%e0%b8%b2%e0%b8%81%e0%b8%a5/
CATEGORIES:วันสำคัญสากล
END:VEVENT
BEGIN:VEVENT
DTSTART;VALUE=DATE:20230308
DTEND;VALUE=DATE:20230309
DTSTAMP:20260425T040043
CREATED:20230110T024820Z
LAST-MODIFIED:20230110T024820Z
UID:13649-1678233600-1678319999@specialedfoundation.com
SUMMARY:วันสตรีสากล
DESCRIPTION:วันสตรีสากล
URL:https://specialedfoundation.com/event/%e0%b8%a7%e0%b8%b1%e0%b8%99%e0%b8%aa%e0%b8%95%e0%b8%a3%e0%b8%b5%e0%b8%aa%e0%b8%b2%e0%b8%81%e0%b8%a5/
CATEGORIES:วันสำคัญสากล
END:VEVENT
BEGIN:VEVENT
DTSTART;VALUE=DATE:20230306
DTEND;VALUE=DATE:20230307
DTSTAMP:20260425T040043
CREATED:20230110T024758Z
LAST-MODIFIED:20230110T024758Z
UID:13647-1678060800-1678147199@specialedfoundation.com
SUMMARY:วันมาฆบูชา
DESCRIPTION:วันมาฆบูชา
URL:https://specialedfoundation.com/event/%e0%b8%a7%e0%b8%b1%e0%b8%99%e0%b8%a1%e0%b8%b2%e0%b8%86%e0%b8%9a%e0%b8%b9%e0%b8%8a%e0%b8%b2/
CATEGORIES:วันสำคัญของไทย,วันสำคัญสากล
END:VEVENT
BEGIN:VEVENT
DTSTART;VALUE=DATE:20230303
DTEND;VALUE=DATE:20230304
DTSTAMP:20260425T040043
CREATED:20230110T024704Z
LAST-MODIFIED:20230110T024704Z
UID:13643-1677801600-1677887999@specialedfoundation.com
SUMMARY:วันสัตว์ป่าและพืชป่าโลก
DESCRIPTION:วันสัตว์ป่าและพืชป่าโลก
URL:https://specialedfoundation.com/event/%e0%b8%a7%e0%b8%b1%e0%b8%99%e0%b8%aa%e0%b8%b1%e0%b8%95%e0%b8%a7%e0%b9%8c%e0%b8%9b%e0%b9%88%e0%b8%b2%e0%b9%81%e0%b8%a5%e0%b8%b0%e0%b8%9e%e0%b8%b7%e0%b8%8a%e0%b8%9b%e0%b9%88%e0%b8%b2%e0%b9%82%e0%b8%a5/
CATEGORIES:วันสำคัญสากล
END:VEVENT
BEGIN:VEVENT
DTSTART;VALUE=DATE:20230214
DTEND;VALUE=DATE:20230215
DTSTAMP:20260425T040043
CREATED:20230110T024441Z
LAST-MODIFIED:20230110T024441Z
UID:13635-1676332800-1676419199@specialedfoundation.com
SUMMARY:วันวาเลนไทน์
DESCRIPTION:วันวาเลนไทน์
URL:https://specialedfoundation.com/event/%e0%b8%a7%e0%b8%b1%e0%b8%99%e0%b8%a7%e0%b8%b2%e0%b9%80%e0%b8%a5%e0%b8%99%e0%b9%84%e0%b8%97%e0%b8%99%e0%b9%8c/
CATEGORIES:วันสำคัญสากล
END:VEVENT
BEGIN:VEVENT
DTSTART;VALUE=DATE:20230204
DTEND;VALUE=DATE:20230205
DTSTAMP:20260425T040043
CREATED:20230110T024323Z
LAST-MODIFIED:20230110T024323Z
UID:13631-1675468800-1675555199@specialedfoundation.com
SUMMARY:วันมะเร็งโลก
DESCRIPTION:วันมะเร็งโลก
URL:https://specialedfoundation.com/event/%e0%b8%a7%e0%b8%b1%e0%b8%99%e0%b8%a1%e0%b8%b0%e0%b9%80%e0%b8%a3%e0%b9%87%e0%b8%87%e0%b9%82%e0%b8%a5%e0%b8%81/
CATEGORIES:วันสำคัญสากล
END:VEVENT
BEGIN:VEVENT
DTSTART;VALUE=DATE:20230122
DTEND;VALUE=DATE:20230123
DTSTAMP:20260425T040043
CREATED:20230110T024059Z
LAST-MODIFIED:20230110T024059Z
UID:13625-1674345600-1674431999@specialedfoundation.com
SUMMARY:วันตรุษจีน
DESCRIPTION:วันตรุษจีน
URL:https://specialedfoundation.com/event/%e0%b8%a7%e0%b8%b1%e0%b8%99%e0%b8%95%e0%b8%a3%e0%b8%b8%e0%b8%a9%e0%b8%88%e0%b8%b5%e0%b8%99/
CATEGORIES:วันสำคัญของไทย,วันสำคัญสากล
END:VEVENT
BEGIN:VEVENT
DTSTART;VALUE=DATE:20230101
DTEND;VALUE=DATE:20230102
DTSTAMP:20260425T040043
CREATED:20230110T023255Z
LAST-MODIFIED:20230110T023255Z
UID:13609-1672531200-1672617599@specialedfoundation.com
SUMMARY:วันขึ้นปีใหม่
DESCRIPTION:วันขึ้นปีใหม่
URL:https://specialedfoundation.com/event/%e0%b8%a7%e0%b8%b1%e0%b8%99%e0%b8%82%e0%b8%b6%e0%b9%89%e0%b8%99%e0%b8%9b%e0%b8%b5%e0%b9%83%e0%b8%ab%e0%b8%a1%e0%b9%88/
CATEGORIES:วันสำคัญสากล
END:VEVENT
BEGIN:VEVENT
DTSTART;VALUE=DATE:20221231
DTEND;VALUE=DATE:20230101
DTSTAMP:20260425T040043
CREATED:20220425T170502Z
LAST-MODIFIED:20220425T170502Z
UID:13312-1672444800-1672531199@specialedfoundation.com
SUMMARY:วันสิ้นปี
DESCRIPTION:วันสิ้นปี
URL:https://specialedfoundation.com/event/%e0%b8%a7%e0%b8%b1%e0%b8%99%e0%b8%aa%e0%b8%b4%e0%b9%89%e0%b8%99%e0%b8%9b%e0%b8%b5/
CATEGORIES:วันสำคัญของไทย,วันสำคัญสากล
END:VEVENT
BEGIN:VEVENT
DTSTART;VALUE=DATE:20221225
DTEND;VALUE=DATE:20221226
DTSTAMP:20260425T040043
CREATED:20220425T165911Z
LAST-MODIFIED:20220425T165911Z
UID:13304-1671926400-1672012799@specialedfoundation.com
SUMMARY:วันคริสต์มาส
DESCRIPTION:วันคริสต์มาส
URL:https://specialedfoundation.com/event/%e0%b8%a7%e0%b8%b1%e0%b8%99%e0%b8%84%e0%b8%a3%e0%b8%b4%e0%b8%aa%e0%b8%95%e0%b9%8c%e0%b8%a1%e0%b8%b2%e0%b8%aa/
CATEGORIES:วันสำคัญสากล
END:VEVENT
BEGIN:VEVENT
DTSTART;VALUE=DATE:20221215
DTEND;VALUE=DATE:20221216
DTSTAMP:20260425T040043
CREATED:20220425T165753Z
LAST-MODIFIED:20220425T165753Z
UID:13300-1671062400-1671148799@specialedfoundation.com
SUMMARY:วันชาสากล
DESCRIPTION:วันชาสากล
URL:https://specialedfoundation.com/event/%e0%b8%a7%e0%b8%b1%e0%b8%99%e0%b8%8a%e0%b8%b2%e0%b8%aa%e0%b8%b2%e0%b8%81%e0%b8%a5/
CATEGORIES:วันสำคัญสากล
END:VEVENT
END:VCALENDAR