BEGIN:VCALENDAR
VERSION:2.0
PRODID:-//มูลนิธิเพื่อการศึกษาพิเศษในพระราชูปถัมภ์ฯ - Special Education Foundation, Thailand - ECPv5.14.1//NONSGML v1.0//EN
CALSCALE:GREGORIAN
METHOD:PUBLISH
X-WR-CALNAME:มูลนิธิเพื่อการศึกษาพิเศษในพระราชูปถัมภ์ฯ - Special Education Foundation, Thailand
X-ORIGINAL-URL:https://specialedfoundation.com
X-WR-CALDESC:Events for มูลนิธิเพื่อการศึกษาพิเศษในพระราชูปถัมภ์ฯ - Special Education Foundation, Thailand
REFRESH-INTERVAL;VALUE=DURATION:PT1H
X-Robots-Tag:noindex
X-PUBLISHED-TTL:PT1H
BEGIN:VTIMEZONE
TZID:Asia/Bangkok
BEGIN:STANDARD
TZOFFSETFROM:+0700
TZOFFSETTO:+0700
TZNAME:+07
DTSTART:20230101T000000
END:STANDARD
END:VTIMEZONE
BEGIN:VEVENT
DTSTART;VALUE=DATE:20250123
DTEND;VALUE=DATE:20250124
DTSTAMP:20260424T174115
CREATED:20250807T073319Z
LAST-MODIFIED:20250807T073319Z
UID:14121-1737590400-1737676799@specialedfoundation.com
SUMMARY:วันเขียนด้วยลายมือ
DESCRIPTION:วันเขียนด้วยลายมือ
URL:https://specialedfoundation.com/event/%e0%b8%a7%e0%b8%b1%e0%b8%99%e0%b9%80%e0%b8%82%e0%b8%b5%e0%b8%a2%e0%b8%99%e0%b8%94%e0%b9%89%e0%b8%a7%e0%b8%a2%e0%b8%a5%e0%b8%b2%e0%b8%a2%e0%b8%a1%e0%b8%b7%e0%b8%ad/
CATEGORIES:วันสำคัญสากล
END:VEVENT
BEGIN:VEVENT
DTSTART;VALUE=DATE:20250121
DTEND;VALUE=DATE:20250122
DTSTAMP:20260424T174115
CREATED:20250807T073226Z
LAST-MODIFIED:20250807T073226Z
UID:14119-1737417600-1737503999@specialedfoundation.com
SUMMARY:วันกอดสากล
DESCRIPTION:วันกอดสากล
URL:https://specialedfoundation.com/event/%e0%b8%a7%e0%b8%b1%e0%b8%99%e0%b8%81%e0%b8%ad%e0%b8%94%e0%b8%aa%e0%b8%b2%e0%b8%81%e0%b8%a5/
CATEGORIES:วันสำคัญสากล
END:VEVENT
BEGIN:VEVENT
DTSTART;VALUE=DATE:20250114
DTEND;VALUE=DATE:20250115
DTSTAMP:20260424T174115
CREATED:20250807T073036Z
LAST-MODIFIED:20250807T073036Z
UID:14111-1736812800-1736899199@specialedfoundation.com
SUMMARY:วันอนุรักษ์ทรัพยากรป่าไม้ของชาติ / วันแต่งตัวสัตว์เลี้ยง
DESCRIPTION:วันอนุรักษ์ทรัพยากรป่าไม้ของชาติ / วันแต่งตัวสัตว์เลี้ยง
URL:https://specialedfoundation.com/event/%e0%b8%a7%e0%b8%b1%e0%b8%99%e0%b8%ad%e0%b8%99%e0%b8%b8%e0%b8%a3%e0%b8%b1%e0%b8%81%e0%b8%a9%e0%b9%8c%e0%b8%97%e0%b8%a3%e0%b8%b1%e0%b8%9e%e0%b8%a2%e0%b8%b2%e0%b8%81%e0%b8%a3%e0%b8%9b%e0%b9%88%e0%b8%b2/
CATEGORIES:วันสำคัญของไทย,วันสำคัญสากล
END:VEVENT
BEGIN:VEVENT
DTSTART;VALUE=DATE:20250113
DTEND;VALUE=DATE:20250114
DTSTAMP:20260424T174115
CREATED:20250807T073003Z
LAST-MODIFIED:20250807T073003Z
UID:14109-1736726400-1736812799@specialedfoundation.com
SUMMARY:วันการบินแห่งชาติ / วันสติ๊กเกอร์ / วันทำความสะอาดโต๊ะทำงาน
DESCRIPTION:วันการบินแห่งชาติ / วันสติ๊กเกอร์ / วันทำความสะอาดโต๊ะทำงาน
URL:https://specialedfoundation.com/event/%e0%b8%a7%e0%b8%b1%e0%b8%99%e0%b8%81%e0%b8%b2%e0%b8%a3%e0%b8%9a%e0%b8%b4%e0%b8%99%e0%b9%81%e0%b8%ab%e0%b9%88%e0%b8%87%e0%b8%8a%e0%b8%b2%e0%b8%95%e0%b8%b4-%e0%b8%a7%e0%b8%b1%e0%b8%99%e0%b8%aa/
CATEGORIES:วันสำคัญของไทย,วันสำคัญสากล
END:VEVENT
BEGIN:VEVENT
DTSTART;VALUE=DATE:20250104
DTEND;VALUE=DATE:20250105
DTSTAMP:20260424T174115
CREATED:20250807T072645Z
LAST-MODIFIED:20250807T072645Z
UID:14101-1735948800-1736035199@specialedfoundation.com
SUMMARY:วันอักษรเบรลล์ / วันทหารม้า
DESCRIPTION:วันอักษรเบรลล์ / วันทหารม้า
URL:https://specialedfoundation.com/event/%e0%b8%a7%e0%b8%b1%e0%b8%99%e0%b8%ad%e0%b8%b1%e0%b8%81%e0%b8%a9%e0%b8%a3%e0%b9%80%e0%b8%9a%e0%b8%a3%e0%b8%a5%e0%b8%a5%e0%b9%8c-%e0%b8%a7%e0%b8%b1%e0%b8%99%e0%b8%97%e0%b8%ab%e0%b8%b2%e0%b8%a3/
CATEGORIES:วันสำคัญของไทย,วันสำคัญสากล
END:VEVENT
BEGIN:VEVENT
DTSTART;VALUE=DATE:20250101
DTEND;VALUE=DATE:20250102
DTSTAMP:20260424T174115
CREATED:20250807T072545Z
LAST-MODIFIED:20250807T072545Z
UID:14099-1735689600-1735775999@specialedfoundation.com
SUMMARY:วันขึ้นปีใหม่
DESCRIPTION:วันขึ้นปีใหม่
URL:https://specialedfoundation.com/event/%e0%b8%a7%e0%b8%b1%e0%b8%99%e0%b8%82%e0%b8%b6%e0%b9%89%e0%b8%99%e0%b8%9b%e0%b8%b5%e0%b9%83%e0%b8%ab%e0%b8%a1%e0%b9%88-3/
CATEGORIES:วันสำคัญสากล
END:VEVENT
BEGIN:VEVENT
DTSTART;VALUE=DATE:20241231
DTEND;VALUE=DATE:20250101
DTSTAMP:20260424T174115
CREATED:20240515T031630Z
LAST-MODIFIED:20240515T031630Z
UID:14062-1735603200-1735689599@specialedfoundation.com
SUMMARY:วันสิ้นปี
DESCRIPTION:วันสิ้นปี
URL:https://specialedfoundation.com/event/%e0%b8%a7%e0%b8%b1%e0%b8%99%e0%b8%aa%e0%b8%b4%e0%b9%89%e0%b8%99%e0%b8%9b%e0%b8%b5-3/
CATEGORIES:วันสำคัญสากล
END:VEVENT
BEGIN:VEVENT
DTSTART;VALUE=DATE:20240101
DTEND;VALUE=DATE:20240102
DTSTAMP:20260424T174115
CREATED:20240515T025737Z
LAST-MODIFIED:20240515T025737Z
UID:14012-1704067200-1704153599@specialedfoundation.com
SUMMARY:วันขึ้นปีใหม่
DESCRIPTION:วันขึ้นปีใหม่
URL:https://specialedfoundation.com/event/%e0%b8%a7%e0%b8%b1%e0%b8%99%e0%b8%82%e0%b8%b6%e0%b9%89%e0%b8%99%e0%b8%9b%e0%b8%b5%e0%b9%83%e0%b8%ab%e0%b8%a1%e0%b9%88-2/
CATEGORIES:วันสำคัญสากล
END:VEVENT
BEGIN:VEVENT
DTSTART;VALUE=DATE:20231231
DTEND;VALUE=DATE:20240101
DTSTAMP:20260424T174115
CREATED:20230110T041750Z
LAST-MODIFIED:20230110T041750Z
UID:13896-1703980800-1704067199@specialedfoundation.com
SUMMARY:วันสิ้นปี
DESCRIPTION:วันสิ้นปี
URL:https://specialedfoundation.com/event/%e0%b8%a7%e0%b8%b1%e0%b8%99%e0%b8%aa%e0%b8%b4%e0%b9%89%e0%b8%99%e0%b8%9b%e0%b8%b5-2/
CATEGORIES:วันสำคัญสากล
END:VEVENT
BEGIN:VEVENT
DTSTART;VALUE=DATE:20231225
DTEND;VALUE=DATE:20231226
DTSTAMP:20260424T174115
CREATED:20230110T041613Z
LAST-MODIFIED:20230110T041613Z
UID:13890-1703462400-1703548799@specialedfoundation.com
SUMMARY:วันคริสต์มาส
DESCRIPTION:วันคริสต์มาส
URL:https://specialedfoundation.com/event/%e0%b8%a7%e0%b8%b1%e0%b8%99%e0%b8%84%e0%b8%a3%e0%b8%b4%e0%b8%aa%e0%b8%95%e0%b9%8c%e0%b8%a1%e0%b8%b2%e0%b8%aa-2/
CATEGORIES:วันสำคัญสากล
END:VEVENT
BEGIN:VEVENT
DTSTART;VALUE=DATE:20231210
DTEND;VALUE=DATE:20231211
DTSTAMP:20260424T174115
CREATED:20230110T041457Z
LAST-MODIFIED:20230110T041457Z
UID:13886-1702166400-1702252799@specialedfoundation.com
SUMMARY:วันรัฐธรรมนูญ / วันสิทธิมนุษยชนสากล
DESCRIPTION:วันรัฐธรรมนูญ / วันสิทธิมนุษยชนสากล
URL:https://specialedfoundation.com/event/%e0%b8%a7%e0%b8%b1%e0%b8%99%e0%b8%a3%e0%b8%b1%e0%b8%90%e0%b8%98%e0%b8%a3%e0%b8%a3%e0%b8%a1%e0%b8%99%e0%b8%b9%e0%b8%8d-%e0%b8%a7%e0%b8%b1%e0%b8%99%e0%b8%aa%e0%b8%b4%e0%b8%97%e0%b8%98%e0%b8%b4-2/
CATEGORIES:วันสำคัญของไทย,วันสำคัญสากล
END:VEVENT
BEGIN:VEVENT
DTSTART;VALUE=DATE:20231209
DTEND;VALUE=DATE:20231210
DTSTAMP:20260424T174115
CREATED:20230110T041425Z
LAST-MODIFIED:20230110T041425Z
UID:13884-1702080000-1702166399@specialedfoundation.com
SUMMARY:วันต่อต้านคอร์รัปชันสากล
DESCRIPTION:วันต่อต้านคอร์รัปชันสากล
URL:https://specialedfoundation.com/event/%e0%b8%a7%e0%b8%b1%e0%b8%99%e0%b8%95%e0%b9%88%e0%b8%ad%e0%b8%95%e0%b9%89%e0%b8%b2%e0%b8%99%e0%b8%84%e0%b8%ad%e0%b8%a3%e0%b9%8c%e0%b8%a3%e0%b8%b1%e0%b8%9b%e0%b8%8a%e0%b8%b1%e0%b8%99%e0%b8%aa%e0%b8%b2-2/
CATEGORIES:วันสำคัญสากล
END:VEVENT
BEGIN:VEVENT
DTSTART;VALUE=DATE:20231205
DTEND;VALUE=DATE:20231206
DTSTAMP:20260424T174115
CREATED:20230110T041314Z
LAST-MODIFIED:20230110T041314Z
UID:13880-1701734400-1701820799@specialedfoundation.com
SUMMARY:วันชาติ / วันพ่อแห่งชาติ / วันดินโลก / วันคล้ายวันพระบรมราชสมภพ พระบาทสมเด็จพระบรมชนกาธิเบศร มหาภูมิพลอดุลยเดชมหาราช บรมนาถบพิตร
DESCRIPTION:วันชาติ / วันพ่อแห่งชาติ / วันดินโลก / วันคล้ายวันพระบรมราชสมภพ พระบาทสมเด็จพระบรมชนกาธิเบศร มหาภูมิพลอดุลยเดชมหาราช บรมนาถบพิตร
URL:https://specialedfoundation.com/event/%e0%b8%a7%e0%b8%b1%e0%b8%99%e0%b8%8a%e0%b8%b2%e0%b8%95%e0%b8%b4-%e0%b8%a7%e0%b8%b1%e0%b8%99%e0%b8%9e%e0%b9%88%e0%b8%ad%e0%b9%81%e0%b8%ab%e0%b9%88%e0%b8%87%e0%b8%8a%e0%b8%b2%e0%b8%95%e0%b8%b4-2/
CATEGORIES:วันสำคัญของไทย,วันสำคัญสากล
END:VEVENT
BEGIN:VEVENT
DTSTART;VALUE=DATE:20231203
DTEND;VALUE=DATE:20231204
DTSTAMP:20260424T174115
CREATED:20230110T041156Z
LAST-MODIFIED:20230110T041156Z
UID:13876-1701561600-1701647999@specialedfoundation.com
SUMMARY:วันคนพิการสากล
DESCRIPTION:วันคนพิการสากล
URL:https://specialedfoundation.com/event/%e0%b8%a7%e0%b8%b1%e0%b8%99%e0%b8%84%e0%b8%99%e0%b8%9e%e0%b8%b4%e0%b8%81%e0%b8%b2%e0%b8%a3%e0%b8%aa%e0%b8%b2%e0%b8%81%e0%b8%a5-2/
CATEGORIES:วันสำคัญสากล
END:VEVENT
BEGIN:VEVENT
DTSTART;VALUE=DATE:20231201
DTEND;VALUE=DATE:20231202
DTSTAMP:20260424T174115
CREATED:20230110T041107Z
LAST-MODIFIED:20230110T041107Z
UID:13874-1701388800-1701475199@specialedfoundation.com
SUMMARY:วันดำรงราชานุภาพ / วันเอดส์โลก
DESCRIPTION:วันดำรงราชานุภาพ / วันเอดส์โลก
URL:https://specialedfoundation.com/event/%e0%b8%a7%e0%b8%b1%e0%b8%99%e0%b8%94%e0%b8%b3%e0%b8%a3%e0%b8%87%e0%b8%a3%e0%b8%b2%e0%b8%8a%e0%b8%b2%e0%b8%99%e0%b8%b8%e0%b8%a0%e0%b8%b2%e0%b8%9e-%e0%b8%a7%e0%b8%b1%e0%b8%99%e0%b9%80%e0%b8%ad/
CATEGORIES:วันสำคัญของไทย,วันสำคัญสากล
END:VEVENT
BEGIN:VEVENT
DTSTART;VALUE=DATE:20231122
DTEND;VALUE=DATE:20231123
DTSTAMP:20260424T174115
CREATED:20230110T040913Z
LAST-MODIFIED:20230110T040913Z
UID:13868-1700611200-1700697599@specialedfoundation.com
SUMMARY:วันแรดโลก
DESCRIPTION:วันแรดโลก
URL:https://specialedfoundation.com/event/%e0%b8%a7%e0%b8%b1%e0%b8%99%e0%b9%81%e0%b8%a3%e0%b8%94%e0%b9%82%e0%b8%a5%e0%b8%81/
CATEGORIES:วันสำคัญสากล
END:VEVENT
BEGIN:VEVENT
DTSTART;VALUE=DATE:20231119
DTEND;VALUE=DATE:20231120
DTSTAMP:20260424T174115
CREATED:20230110T040815Z
LAST-MODIFIED:20230110T040815Z
UID:13864-1700352000-1700438399@specialedfoundation.com
SUMMARY:วันส้วมโลก
DESCRIPTION:วันส้วมโลก
URL:https://specialedfoundation.com/event/%e0%b8%a7%e0%b8%b1%e0%b8%99%e0%b8%aa%e0%b9%89%e0%b8%a7%e0%b8%a1%e0%b9%82%e0%b8%a5%e0%b8%81/
CATEGORIES:วันสำคัญสากล
END:VEVENT
BEGIN:VEVENT
DTSTART;VALUE=DATE:20231114
DTEND;VALUE=DATE:20231115
DTSTAMP:20260424T174115
CREATED:20230110T040746Z
LAST-MODIFIED:20230110T040746Z
UID:13862-1699920000-1700006399@specialedfoundation.com
SUMMARY:วันพระบิดาแห่งฝนหลวง / วันเบาหวานโลก
DESCRIPTION:วันพระบิดาแห่งฝนหลวง / วันเบาหวานโลก
URL:https://specialedfoundation.com/event/%e0%b8%a7%e0%b8%b1%e0%b8%99%e0%b8%9e%e0%b8%a3%e0%b8%b0%e0%b8%9a%e0%b8%b4%e0%b8%94%e0%b8%b2%e0%b9%81%e0%b8%ab%e0%b9%88%e0%b8%87%e0%b8%9d%e0%b8%99%e0%b8%ab%e0%b8%a5%e0%b8%a7%e0%b8%87-%e0%b8%a7-2/
CATEGORIES:วันสำคัญของไทย,วันสำคัญสากล
END:VEVENT
BEGIN:VEVENT
DTSTART;VALUE=DATE:20231031
DTEND;VALUE=DATE:20231101
DTSTAMP:20260424T174115
CREATED:20230110T040012Z
LAST-MODIFIED:20230110T040012Z
UID:13858-1698710400-1698796799@specialedfoundation.com
SUMMARY:วันฮาโลวีน / วันออมแห่งชาติ
DESCRIPTION:วันฮาโลวีน / วันออมแห่งชาติ
URL:https://specialedfoundation.com/event/%e0%b8%a7%e0%b8%b1%e0%b8%99%e0%b8%ae%e0%b8%b2%e0%b9%82%e0%b8%a5%e0%b8%a7%e0%b8%b5%e0%b8%99-%e0%b8%a7%e0%b8%b1%e0%b8%99%e0%b8%ad%e0%b8%ad%e0%b8%a1%e0%b9%81%e0%b8%ab%e0%b9%88%e0%b8%87%e0%b8%8a-2/
CATEGORIES:วันสำคัญของไทย,วันสำคัญสากล
END:VEVENT
BEGIN:VEVENT
DTSTART;VALUE=DATE:20231029
DTEND;VALUE=DATE:20231030
DTSTAMP:20260424T174115
CREATED:20230110T035935Z
LAST-MODIFIED:20230110T035935Z
UID:13856-1698537600-1698623999@specialedfoundation.com
SUMMARY:วันสะเก็ดเงินโลก
DESCRIPTION:วันสะเก็ดเงินโลก
URL:https://specialedfoundation.com/event/%e0%b8%a7%e0%b8%b1%e0%b8%99%e0%b8%aa%e0%b8%b0%e0%b9%80%e0%b8%81%e0%b9%87%e0%b8%94%e0%b9%80%e0%b8%87%e0%b8%b4%e0%b8%99%e0%b9%82%e0%b8%a5%e0%b8%81/
CATEGORIES:วันสำคัญสากล
END:VEVENT
BEGIN:VEVENT
DTSTART;VALUE=DATE:20231024
DTEND;VALUE=DATE:20231025
DTSTAMP:20260424T174115
CREATED:20230110T035853Z
LAST-MODIFIED:20230110T035853Z
UID:13854-1698105600-1698191999@specialedfoundation.com
SUMMARY:วันสหประชาชาติ
DESCRIPTION:วันสหประชาชาติ
URL:https://specialedfoundation.com/event/%e0%b8%a7%e0%b8%b1%e0%b8%99%e0%b8%aa%e0%b8%ab%e0%b8%9b%e0%b8%a3%e0%b8%b0%e0%b8%8a%e0%b8%b2%e0%b8%8a%e0%b8%b2%e0%b8%95%e0%b8%b4-2/
CATEGORIES:วันสำคัญสากล
END:VEVENT
BEGIN:VEVENT
DTSTART;VALUE=DATE:20231023
DTEND;VALUE=DATE:20231024
DTSTAMP:20260424T174115
CREATED:20230110T035826Z
LAST-MODIFIED:20230110T035826Z
UID:13852-1698019200-1698105599@specialedfoundation.com
SUMMARY:เทศกาลกินเจ / วันปิยมหาราช
DESCRIPTION:เทศกาลกินเจ / วันปิยมหาราช
URL:https://specialedfoundation.com/event/%e0%b9%80%e0%b8%97%e0%b8%a8%e0%b8%81%e0%b8%b2%e0%b8%a5%e0%b8%81%e0%b8%b4%e0%b8%99%e0%b9%80%e0%b8%88-%e0%b8%a7%e0%b8%b1%e0%b8%99%e0%b8%9b%e0%b8%b4%e0%b8%a2%e0%b8%a1%e0%b8%ab%e0%b8%b2%e0%b8%a3/
CATEGORIES:วันสำคัญของไทย,วันสำคัญสากล
END:VEVENT
BEGIN:VEVENT
DTSTART;VALUE=DATE:20231022
DTEND;VALUE=DATE:20231023
DTSTAMP:20260424T174115
CREATED:20230110T035755Z
LAST-MODIFIED:20230110T035755Z
UID:13850-1697932800-1698019199@specialedfoundation.com
SUMMARY:เทศกาลกินเจ
DESCRIPTION:เทศกาลกินเจ
URL:https://specialedfoundation.com/event/%e0%b9%80%e0%b8%97%e0%b8%a8%e0%b8%81%e0%b8%b2%e0%b8%a5%e0%b8%81%e0%b8%b4%e0%b8%99%e0%b9%80%e0%b8%88-4/
CATEGORIES:วันสำคัญสากล
END:VEVENT
BEGIN:VEVENT
DTSTART;VALUE=DATE:20231021
DTEND;VALUE=DATE:20231022
DTSTAMP:20260424T174115
CREATED:20230110T035729Z
LAST-MODIFIED:20230110T035729Z
UID:13848-1697846400-1697932799@specialedfoundation.com
SUMMARY:เทศกาลกินเจ / วันสังคมสงเคราะห์แห่งชาติ / วันพยาบาลแห่งชาติ / วันทันตสาธารณสุขแห่งชาติ / วันรักต้นไม้ประจำปีของชาติ / วันคล้ายวันพระราชสมภพของสมเด็จย่า
DESCRIPTION:เทศกาลกินเจ / วันสังคมสงเคราะห์แห่งชาติ / วันพยาบาลแห่งชาติ / วันทันตสาธารณสุขแห่งชาติ / วันรักต้นไม้ประจำปีของชาติ / วันคล้ายวันพระราชสมภพของสมเด็จย่า
URL:https://specialedfoundation.com/event/%e0%b9%80%e0%b8%97%e0%b8%a8%e0%b8%81%e0%b8%b2%e0%b8%a5%e0%b8%81%e0%b8%b4%e0%b8%99%e0%b9%80%e0%b8%88-%e0%b8%a7%e0%b8%b1%e0%b8%99%e0%b8%aa%e0%b8%b1%e0%b8%87%e0%b8%84%e0%b8%a1%e0%b8%aa%e0%b8%87/
CATEGORIES:วันสำคัญของไทย,วันสำคัญสากล
END:VEVENT
BEGIN:VEVENT
DTSTART;VALUE=DATE:20231020
DTEND;VALUE=DATE:20231021
DTSTAMP:20260424T174115
CREATED:20230110T035545Z
LAST-MODIFIED:20230110T035545Z
UID:13846-1697760000-1697846399@specialedfoundation.com
SUMMARY:เทศกาลกินเจ / วันสลอธ
DESCRIPTION:เทศกาลกินเจ / วันสลอธ
URL:https://specialedfoundation.com/event/%e0%b9%80%e0%b8%97%e0%b8%a8%e0%b8%81%e0%b8%b2%e0%b8%a5%e0%b8%81%e0%b8%b4%e0%b8%99%e0%b9%80%e0%b8%88-%e0%b8%a7%e0%b8%b1%e0%b8%99%e0%b8%aa%e0%b8%a5%e0%b8%ad%e0%b8%98/
CATEGORIES:วันสำคัญสากล
END:VEVENT
BEGIN:VEVENT
DTSTART;VALUE=DATE:20231019
DTEND;VALUE=DATE:20231020
DTSTAMP:20260424T174115
CREATED:20230110T035516Z
LAST-MODIFIED:20230110T035516Z
UID:13844-1697673600-1697759999@specialedfoundation.com
SUMMARY:เทศกาลกินเจ / วันเทคโนโลยีของไทย
DESCRIPTION:เทศกาลกินเจ / วันเทคโนโลยีของไทย
URL:https://specialedfoundation.com/event/%e0%b9%80%e0%b8%97%e0%b8%a8%e0%b8%81%e0%b8%b2%e0%b8%a5%e0%b8%81%e0%b8%b4%e0%b8%99%e0%b9%80%e0%b8%88-%e0%b8%a7%e0%b8%b1%e0%b8%99%e0%b9%80%e0%b8%97%e0%b8%84%e0%b9%82%e0%b8%99%e0%b9%82%e0%b8%a5/
CATEGORIES:วันสำคัญของไทย,วันสำคัญสากล
END:VEVENT
BEGIN:VEVENT
DTSTART;VALUE=DATE:20231018
DTEND;VALUE=DATE:20231019
DTSTAMP:20260424T174115
CREATED:20230110T035436Z
LAST-MODIFIED:20230110T035436Z
UID:13842-1697587200-1697673599@specialedfoundation.com
SUMMARY:เทศกาลกินเจ
DESCRIPTION:เทศกาลกินเจ
URL:https://specialedfoundation.com/event/%e0%b9%80%e0%b8%97%e0%b8%a8%e0%b8%81%e0%b8%b2%e0%b8%a5%e0%b8%81%e0%b8%b4%e0%b8%99%e0%b9%80%e0%b8%88-2/
CATEGORIES:วันสำคัญสากล
END:VEVENT
BEGIN:VEVENT
DTSTART;VALUE=DATE:20231017
DTEND;VALUE=DATE:20231018
DTSTAMP:20260424T174115
CREATED:20230110T035401Z
LAST-MODIFIED:20230110T035401Z
UID:13840-1697500800-1697587199@specialedfoundation.com
SUMMARY:เทศกาลกินเจ / วันตำรวจ
DESCRIPTION:เทศกาลกินเจ / วันตำรวจ
URL:https://specialedfoundation.com/event/%e0%b9%80%e0%b8%97%e0%b8%a8%e0%b8%81%e0%b8%b2%e0%b8%a5%e0%b8%81%e0%b8%b4%e0%b8%99%e0%b9%80%e0%b8%88-%e0%b8%a7%e0%b8%b1%e0%b8%99%e0%b8%95%e0%b8%b3%e0%b8%a3%e0%b8%a7%e0%b8%88/
CATEGORIES:วันสำคัญของไทย,วันสำคัญสากล
END:VEVENT
BEGIN:VEVENT
DTSTART;VALUE=DATE:20231016
DTEND;VALUE=DATE:20231017
DTSTAMP:20260424T174115
CREATED:20230110T035334Z
LAST-MODIFIED:20230110T035334Z
UID:13838-1697414400-1697500799@specialedfoundation.com
SUMMARY:เทศกาลกินเจ / วันอาหารโลก
DESCRIPTION:เทศกาลกินเจ / วันอาหารโลก
URL:https://specialedfoundation.com/event/%e0%b9%80%e0%b8%97%e0%b8%a8%e0%b8%81%e0%b8%b2%e0%b8%a5%e0%b8%81%e0%b8%b4%e0%b8%99%e0%b9%80%e0%b8%88-%e0%b8%a7%e0%b8%b1%e0%b8%99%e0%b8%ad%e0%b8%b2%e0%b8%ab%e0%b8%b2%e0%b8%a3%e0%b9%82%e0%b8%a5/
CATEGORIES:วันสำคัญสากล
END:VEVENT
BEGIN:VEVENT
DTSTART;VALUE=DATE:20231015
DTEND;VALUE=DATE:20231016
DTSTAMP:20260424T174115
CREATED:20230110T035310Z
LAST-MODIFIED:20230110T035310Z
UID:13836-1697328000-1697414399@specialedfoundation.com
SUMMARY:เทศกาลกินเจ / วันล้างมือโลก
DESCRIPTION:เทศกาลกินเจ / วันล้างมือโลก
URL:https://specialedfoundation.com/event/%e0%b9%80%e0%b8%97%e0%b8%a8%e0%b8%81%e0%b8%b2%e0%b8%a5%e0%b8%81%e0%b8%b4%e0%b8%99%e0%b9%80%e0%b8%88-%e0%b8%a7%e0%b8%b1%e0%b8%99%e0%b8%a5%e0%b9%89%e0%b8%b2%e0%b8%87%e0%b8%a1%e0%b8%b7%e0%b8%ad/
CATEGORIES:วันสำคัญสากล
END:VEVENT
END:VCALENDAR