BEGIN:VCALENDAR
VERSION:2.0
PRODID:-//มูลนิธิเพื่อการศึกษาพิเศษในพระราชูปถัมภ์ฯ - Special Education Foundation, Thailand - ECPv5.14.1//NONSGML v1.0//EN
CALSCALE:GREGORIAN
METHOD:PUBLISH
X-WR-CALNAME:มูลนิธิเพื่อการศึกษาพิเศษในพระราชูปถัมภ์ฯ - Special Education Foundation, Thailand
X-ORIGINAL-URL:https://specialedfoundation.com
X-WR-CALDESC:Events for มูลนิธิเพื่อการศึกษาพิเศษในพระราชูปถัมภ์ฯ - Special Education Foundation, Thailand
REFRESH-INTERVAL;VALUE=DURATION:PT1H
X-Robots-Tag:noindex
X-PUBLISHED-TTL:PT1H
BEGIN:VTIMEZONE
TZID:Asia/Bangkok
BEGIN:STANDARD
TZOFFSETFROM:+0700
TZOFFSETTO:+0700
TZNAME:+07
DTSTART:20220101T000000
END:STANDARD
END:VTIMEZONE
BEGIN:VEVENT
DTSTART;VALUE=DATE:20220501
DTEND;VALUE=DATE:20220502
DTSTAMP:20260423T232546
CREATED:20220419T014245Z
LAST-MODIFIED:20220419T014245Z
UID:13055-1651363200-1651449599@specialedfoundation.com
SUMMARY:วันแรงงานแห่งชาติ
DESCRIPTION:วันแรงงานแห่งชาติ
URL:https://specialedfoundation.com/event/%e0%b8%a7%e0%b8%b1%e0%b8%99%e0%b9%81%e0%b8%a3%e0%b8%87%e0%b8%87%e0%b8%b2%e0%b8%99%e0%b9%81%e0%b8%ab%e0%b9%88%e0%b8%87%e0%b8%8a%e0%b8%b2%e0%b8%95%e0%b8%b4/
CATEGORIES:วันสำคัญของไทย
END:VEVENT
BEGIN:VEVENT
DTSTART;VALUE=DATE:20220504
DTEND;VALUE=DATE:20220505
DTSTAMP:20260423T232546
CREATED:20220419T014404Z
LAST-MODIFIED:20220419T014404Z
UID:13057-1651622400-1651708799@specialedfoundation.com
SUMMARY:วันฉัตรมงคล
DESCRIPTION:วันฉัตรมงคล
URL:https://specialedfoundation.com/event/%e0%b8%a7%e0%b8%b1%e0%b8%99%e0%b8%89%e0%b8%b1%e0%b8%95%e0%b8%a3%e0%b8%a1%e0%b8%87%e0%b8%84%e0%b8%a5/
CATEGORIES:วันสำคัญของไทย
END:VEVENT
BEGIN:VEVENT
DTSTART;VALUE=DATE:20220505
DTEND;VALUE=DATE:20220506
DTSTAMP:20260423T232546
CREATED:20220419T014447Z
LAST-MODIFIED:20220419T014447Z
UID:13059-1651708800-1651795199@specialedfoundation.com
SUMMARY:วันคล้ายวันประสูติ พระเจ้าวรวงศ์เธอ พระองค์เจ้าอทิตยาทรกิติคุณ
DESCRIPTION:วันคล้ายวันประสูติ พระเจ้าวรวงศ์เธอ พระองค์เจ้าอทิตยาทรกิติคุณ
URL:https://specialedfoundation.com/event/%e0%b8%a7%e0%b8%b1%e0%b8%99%e0%b8%84%e0%b8%a5%e0%b9%89%e0%b8%b2%e0%b8%a2%e0%b8%a7%e0%b8%b1%e0%b8%99%e0%b8%9b%e0%b8%a3%e0%b8%b0%e0%b8%aa%e0%b8%b9%e0%b8%95%e0%b8%b4-%e0%b8%9e%e0%b8%a3%e0%b8%b0%e0%b9%80/
CATEGORIES:วันสำคัญของไทย
END:VEVENT
BEGIN:VEVENT
DTSTART;VALUE=DATE:20220508
DTEND;VALUE=DATE:20220509
DTSTAMP:20260423T232546
CREATED:20220419T014523Z
LAST-MODIFIED:20220425T171351Z
UID:13061-1651968000-1652054399@specialedfoundation.com
SUMMARY:วันกาชาดสากล
DESCRIPTION:วันกาชาดสากล
URL:https://specialedfoundation.com/event/%e0%b8%a7%e0%b8%b1%e0%b8%99%e0%b8%81%e0%b8%b2%e0%b8%8a%e0%b8%b2%e0%b8%94%e0%b8%aa%e0%b8%b2%e0%b8%81%e0%b8%a5/
CATEGORIES:วันสำคัญสากล
END:VEVENT
BEGIN:VEVENT
DTSTART;VALUE=DATE:20220515
DTEND;VALUE=DATE:20220516
DTSTAMP:20260423T232546
CREATED:20220419T014633Z
LAST-MODIFIED:20220419T014633Z
UID:13063-1652572800-1652659199@specialedfoundation.com
SUMMARY:วันวิสาขบูชา
DESCRIPTION:วันวิสาขบูชา
URL:https://specialedfoundation.com/event/%e0%b8%a7%e0%b8%b1%e0%b8%99%e0%b8%a7%e0%b8%b4%e0%b8%aa%e0%b8%b2%e0%b8%82%e0%b8%9a%e0%b8%b9%e0%b8%8a%e0%b8%b2/
CATEGORIES:วันสำคัญของไทย
END:VEVENT
BEGIN:VEVENT
DTSTART;VALUE=DATE:20220531
DTEND;VALUE=DATE:20220601
DTSTAMP:20260423T232546
CREATED:20220419T014805Z
LAST-MODIFIED:20220425T171234Z
UID:13065-1653955200-1654041599@specialedfoundation.com
SUMMARY:วันงดสูบบุหรี่โลก
DESCRIPTION:วันงดสูบบุหรี่โลก
URL:https://specialedfoundation.com/event/%e0%b8%a7%e0%b8%b1%e0%b8%99%e0%b8%87%e0%b8%94%e0%b8%aa%e0%b8%b9%e0%b8%9a%e0%b8%9a%e0%b8%b8%e0%b8%ab%e0%b8%a3%e0%b8%b5%e0%b9%88%e0%b9%82%e0%b8%a5%e0%b8%81/
CATEGORIES:วันสำคัญสากล
END:VEVENT
END:VCALENDAR