BEGIN:VCALENDAR
VERSION:2.0
PRODID:-//มูลนิธิเพื่อการศึกษาพิเศษในพระราชูปถัมภ์ฯ - Special Education Foundation, Thailand - ECPv5.14.1//NONSGML v1.0//EN
CALSCALE:GREGORIAN
METHOD:PUBLISH
X-WR-CALNAME:มูลนิธิเพื่อการศึกษาพิเศษในพระราชูปถัมภ์ฯ - Special Education Foundation, Thailand
X-ORIGINAL-URL:https://specialedfoundation.com
X-WR-CALDESC:Events for มูลนิธิเพื่อการศึกษาพิเศษในพระราชูปถัมภ์ฯ - Special Education Foundation, Thailand
REFRESH-INTERVAL;VALUE=DURATION:PT1H
X-Robots-Tag:noindex
X-PUBLISHED-TTL:PT1H
BEGIN:VTIMEZONE
TZID:Asia/Bangkok
BEGIN:STANDARD
TZOFFSETFROM:+0700
TZOFFSETTO:+0700
TZNAME:+07
DTSTART:20220101T000000
END:STANDARD
END:VTIMEZONE
BEGIN:VEVENT
DTSTART;VALUE=DATE:20220603
DTEND;VALUE=DATE:20220604
DTSTAMP:20260423T202221
CREATED:20220425T161206Z
LAST-MODIFIED:20220425T161206Z
UID:13188-1654214400-1654300799@specialedfoundation.com
SUMMARY:วันเฉลิมพระชนมพรรษาสมเด็จพระนางเจ้าฯ พระบรมราชินี
DESCRIPTION:วันเฉลิมพระชนมพรรษาสมเด็จพระนางเจ้าฯ พระบรมราชินี
URL:https://specialedfoundation.com/event/%e0%b8%a7%e0%b8%b1%e0%b8%99%e0%b9%80%e0%b8%89%e0%b8%a5%e0%b8%b4%e0%b8%a1%e0%b8%9e%e0%b8%a3%e0%b8%b0%e0%b8%8a%e0%b8%99%e0%b8%a1%e0%b8%9e%e0%b8%a3%e0%b8%a3%e0%b8%a9%e0%b8%b2%e0%b8%aa%e0%b8%a1%e0%b9%80/
CATEGORIES:วันสำคัญของไทย
END:VEVENT
BEGIN:VEVENT
DTSTART;VALUE=DATE:20220605
DTEND;VALUE=DATE:20220606
DTSTAMP:20260423T202221
CREATED:20220425T161254Z
LAST-MODIFIED:20220425T171112Z
UID:13190-1654387200-1654473599@specialedfoundation.com
SUMMARY:วันสิ่งแวดล้อมโลก
DESCRIPTION:วันสิ่งแวดล้อมโลก
URL:https://specialedfoundation.com/event/%e0%b8%a7%e0%b8%b1%e0%b8%99%e0%b8%aa%e0%b8%b4%e0%b9%88%e0%b8%87%e0%b9%81%e0%b8%a7%e0%b8%94%e0%b8%a5%e0%b9%89%e0%b8%ad%e0%b8%a1%e0%b9%82%e0%b8%a5%e0%b8%81/
CATEGORIES:วันสำคัญสากล
END:VEVENT
BEGIN:VEVENT
DTSTART;VALUE=DATE:20220609
DTEND;VALUE=DATE:20220610
DTSTAMP:20260423T202221
CREATED:20220425T161332Z
LAST-MODIFIED:20220425T161332Z
UID:13192-1654732800-1654819199@specialedfoundation.com
SUMMARY:วันอานันทมหิดล
DESCRIPTION:วันอานันทมหิดล
URL:https://specialedfoundation.com/event/%e0%b8%a7%e0%b8%b1%e0%b8%99%e0%b8%ad%e0%b8%b2%e0%b8%99%e0%b8%b1%e0%b8%99%e0%b8%97%e0%b8%a1%e0%b8%ab%e0%b8%b4%e0%b8%94%e0%b8%a5/
CATEGORIES:วันสำคัญของไทย
END:VEVENT
BEGIN:VEVENT
DTSTART;VALUE=DATE:20220626
DTEND;VALUE=DATE:20220627
DTSTAMP:20260423T202221
CREATED:20220425T161428Z
LAST-MODIFIED:20220425T161428Z
UID:13194-1656201600-1656287999@specialedfoundation.com
SUMMARY:วันสุนทรภู่ / วันต่อต้านยาเสพติด
DESCRIPTION:วันสุนทรภู่ / วันต่อต้านยาเสพติด
URL:https://specialedfoundation.com/event/%e0%b8%a7%e0%b8%b1%e0%b8%99%e0%b8%aa%e0%b8%b8%e0%b8%99%e0%b8%97%e0%b8%a3%e0%b8%a0%e0%b8%b9%e0%b9%88-%e0%b8%a7%e0%b8%b1%e0%b8%99%e0%b8%95%e0%b9%88%e0%b8%ad%e0%b8%95%e0%b9%89%e0%b8%b2%e0%b8%99/
CATEGORIES:วันสำคัญของไทย
END:VEVENT
END:VCALENDAR