BEGIN:VCALENDAR
VERSION:2.0
PRODID:-//มูลนิธิเพื่อการศึกษาพิเศษในพระราชูปถัมภ์ฯ - Special Education Foundation, Thailand - ECPv5.14.1//NONSGML v1.0//EN
CALSCALE:GREGORIAN
METHOD:PUBLISH
X-WR-CALNAME:มูลนิธิเพื่อการศึกษาพิเศษในพระราชูปถัมภ์ฯ - Special Education Foundation, Thailand
X-ORIGINAL-URL:https://specialedfoundation.com
X-WR-CALDESC:Events for มูลนิธิเพื่อการศึกษาพิเศษในพระราชูปถัมภ์ฯ - Special Education Foundation, Thailand
REFRESH-INTERVAL;VALUE=DURATION:PT1H
X-Robots-Tag:noindex
X-PUBLISHED-TTL:PT1H
BEGIN:VTIMEZONE
TZID:Asia/Bangkok
BEGIN:STANDARD
TZOFFSETFROM:+0700
TZOFFSETTO:+0700
TZNAME:+07
DTSTART:20220101T000000
END:STANDARD
END:VTIMEZONE
BEGIN:VEVENT
DTSTART;VALUE=DATE:20220926
DTEND;VALUE=DATE:20221005
DTSTAMP:20260423T094618
CREATED:20220425T163226Z
LAST-MODIFIED:20220425T163643Z
UID:13239-1664150400-1664927999@specialedfoundation.com
SUMMARY:เทศกาลกินเจ
DESCRIPTION:เทศกาลกินเจ
URL:https://specialedfoundation.com/event/%e0%b9%80%e0%b8%97%e0%b8%a8%e0%b8%81%e0%b8%b2%e0%b8%a5%e0%b8%81%e0%b8%b4%e0%b8%99%e0%b9%80%e0%b8%88/
CATEGORIES:วันสำคัญของไทย
END:VEVENT
BEGIN:VEVENT
DTSTART;VALUE=DATE:20221001
DTEND;VALUE=DATE:20221002
DTSTAMP:20260423T094618
CREATED:20220425T163501Z
LAST-MODIFIED:20220425T170817Z
UID:13246-1664582400-1664668799@specialedfoundation.com
SUMMARY:วันผู้สูงอายุสากล / วันกาแฟสากล
DESCRIPTION:วันผู้สูงอายุสากล / วันกาแฟสากล
URL:https://specialedfoundation.com/event/%e0%b9%80%e0%b8%97%e0%b8%a8%e0%b8%81%e0%b8%b2%e0%b8%a5%e0%b8%81%e0%b8%b4%e0%b8%99%e0%b9%80%e0%b8%88-3/
CATEGORIES:วันสำคัญสากล
END:VEVENT
BEGIN:VEVENT
DTSTART;VALUE=DATE:20221008
DTEND;VALUE=DATE:20221009
DTSTAMP:20260423T094618
CREATED:20220425T163946Z
LAST-MODIFIED:20220425T163946Z
UID:13252-1665187200-1665273599@specialedfoundation.com
SUMMARY:วันคล้ายวันประสูติ พระเจ้าวรวงศ์เธอ พระองค์เจ้าสิริภาจุฑาภรณ์
DESCRIPTION:วันคล้ายวันประสูติ พระเจ้าวรวงศ์เธอ พระองค์เจ้าสิริภาจุฑาภรณ์
URL:https://specialedfoundation.com/event/%e0%b8%a7%e0%b8%b1%e0%b8%99%e0%b8%84%e0%b8%a5%e0%b9%89%e0%b8%b2%e0%b8%a2%e0%b8%a7%e0%b8%b1%e0%b8%99%e0%b8%9b%e0%b8%a3%e0%b8%b0%e0%b8%aa%e0%b8%b9%e0%b8%95%e0%b8%b4-%e0%b8%9e%e0%b8%a3%e0%b8%b0-3/
CATEGORIES:วันสำคัญของไทย
END:VEVENT
BEGIN:VEVENT
DTSTART;VALUE=DATE:20221009
DTEND;VALUE=DATE:20221010
DTSTAMP:20260423T094618
CREATED:20220425T164024Z
LAST-MODIFIED:20220425T170737Z
UID:13254-1665273600-1665359999@specialedfoundation.com
SUMMARY:วันไปรษณีย์โลก / วันออกพรรษา
DESCRIPTION:วันไปรษณีย์โลก / วันออกพรรษา
URL:https://specialedfoundation.com/event/%e0%b8%a7%e0%b8%b1%e0%b8%99%e0%b9%84%e0%b8%9b%e0%b8%a3%e0%b8%a9%e0%b8%93%e0%b8%b5%e0%b8%a2%e0%b9%8c%e0%b9%82%e0%b8%a5%e0%b8%81-%e0%b8%a7%e0%b8%b1%e0%b8%99%e0%b8%ad%e0%b8%ad%e0%b8%81%e0%b8%9e/
CATEGORIES:วันสำคัญของไทย,วันสำคัญสากล
END:VEVENT
BEGIN:VEVENT
DTSTART;VALUE=DATE:20221013
DTEND;VALUE=DATE:20221014
DTSTAMP:20260423T094618
CREATED:20220425T164125Z
LAST-MODIFIED:20220425T164125Z
UID:13256-1665619200-1665705599@specialedfoundation.com
SUMMARY:วันคล้ายวันสวรรคต พระบาทสมเด็จพระบรมชนกาธิเบศร มหาภูมิพลอดุลยเดชมหาราช บรมนาถบพิตร
DESCRIPTION:วันคล้ายวันสวรรคต พระบาทสมเด็จพระบรมชนกาธิเบศร มหาภูมิพลอดุลยเดชมหาราช บรมนาถบพิตร
URL:https://specialedfoundation.com/event/%e0%b8%a7%e0%b8%b1%e0%b8%99%e0%b8%84%e0%b8%a5%e0%b9%89%e0%b8%b2%e0%b8%a2%e0%b8%a7%e0%b8%b1%e0%b8%99%e0%b8%aa%e0%b8%a7%e0%b8%a3%e0%b8%a3%e0%b8%84%e0%b8%95-%e0%b8%9e%e0%b8%a3%e0%b8%b0%e0%b8%9a%e0%b8%b2/
CATEGORIES:วันสำคัญของไทย
END:VEVENT
BEGIN:VEVENT
DTSTART;VALUE=DATE:20221014
DTEND;VALUE=DATE:20221015
DTSTAMP:20260423T094618
CREATED:20220425T164201Z
LAST-MODIFIED:20220425T164201Z
UID:13258-1665705600-1665791999@specialedfoundation.com
SUMMARY:วันประชาธิปไตย
DESCRIPTION:วันประชาธิปไตย
URL:https://specialedfoundation.com/event/%e0%b8%a7%e0%b8%b1%e0%b8%99%e0%b8%9b%e0%b8%a3%e0%b8%b0%e0%b8%8a%e0%b8%b2%e0%b8%98%e0%b8%b4%e0%b8%9b%e0%b9%84%e0%b8%95%e0%b8%a2/
CATEGORIES:วันสำคัญของไทย
END:VEVENT
BEGIN:VEVENT
DTSTART;VALUE=DATE:20221015
DTEND;VALUE=DATE:20221016
DTSTAMP:20260423T094618
CREATED:20220425T164240Z
LAST-MODIFIED:20220425T170608Z
UID:13260-1665792000-1665878399@specialedfoundation.com
SUMMARY:วันล้างมือโลก
DESCRIPTION:วันล้างมือโลก
URL:https://specialedfoundation.com/event/%e0%b8%a7%e0%b8%b1%e0%b8%99%e0%b8%a5%e0%b9%89%e0%b8%b2%e0%b8%87%e0%b8%a1%e0%b8%b7%e0%b8%ad%e0%b9%82%e0%b8%a5%e0%b8%81/
CATEGORIES:วันสำคัญสากล
END:VEVENT
BEGIN:VEVENT
DTSTART;VALUE=DATE:20221016
DTEND;VALUE=DATE:20221017
DTSTAMP:20260423T094618
CREATED:20220425T164358Z
LAST-MODIFIED:20220425T164358Z
UID:13262-1665878400-1665964799@specialedfoundation.com
SUMMARY:วันอาหารโลก
DESCRIPTION:วันอาหารโลก
URL:https://specialedfoundation.com/event/%e0%b8%a7%e0%b8%b1%e0%b8%99%e0%b8%ad%e0%b8%b2%e0%b8%ab%e0%b8%b2%e0%b8%a3%e0%b9%82%e0%b8%a5%e0%b8%81/
CATEGORIES:วันสำคัญสากล
END:VEVENT
BEGIN:VEVENT
DTSTART;VALUE=DATE:20221019
DTEND;VALUE=DATE:20221020
DTSTAMP:20260423T094618
CREATED:20220425T164438Z
LAST-MODIFIED:20220425T164438Z
UID:13264-1666137600-1666223999@specialedfoundation.com
SUMMARY:วันเทคโนโลยีของไทย
DESCRIPTION:วันเทคโนโลยีของไทย
URL:https://specialedfoundation.com/event/%e0%b8%a7%e0%b8%b1%e0%b8%99%e0%b9%80%e0%b8%97%e0%b8%84%e0%b9%82%e0%b8%99%e0%b9%82%e0%b8%a5%e0%b8%a2%e0%b8%b5%e0%b8%82%e0%b8%ad%e0%b8%87%e0%b9%84%e0%b8%97%e0%b8%a2/
CATEGORIES:วันสำคัญของไทย
END:VEVENT
BEGIN:VEVENT
DTSTART;VALUE=DATE:20221021
DTEND;VALUE=DATE:20221022
DTSTAMP:20260423T094618
CREATED:20220425T164527Z
LAST-MODIFIED:20220425T164527Z
UID:13266-1666310400-1666396799@specialedfoundation.com
SUMMARY:วันสังคมสงเคราะห์แห่งชาติ / วันพยาบาลแห่งชาติ / วันทันตสาธารณสุขแห่งชาติ / วันรักต้นไม้ประจำปีของชาติ / วันคล้ายวันพระราชสมภพของสมเด็จย่า
DESCRIPTION:วันสังคมสงเคราะห์แห่งชาติ / วันพยาบาลแห่งชาติ / วันทันตสาธารณสุขแห่งชาติ / วันรักต้นไม้ประจำปีของชาติ / วันคล้ายวันพระราชสมภพของสมเด็จย่า
URL:https://specialedfoundation.com/event/%e0%b8%a7%e0%b8%b1%e0%b8%99%e0%b8%aa%e0%b8%b1%e0%b8%87%e0%b8%84%e0%b8%a1%e0%b8%aa%e0%b8%87%e0%b9%80%e0%b8%84%e0%b8%a3%e0%b8%b2%e0%b8%b0%e0%b8%ab%e0%b9%8c%e0%b9%81%e0%b8%ab%e0%b9%88%e0%b8%87%e0%b8%8a/
CATEGORIES:วันสำคัญของไทย
END:VEVENT
BEGIN:VEVENT
DTSTART;VALUE=DATE:20221023
DTEND;VALUE=DATE:20221024
DTSTAMP:20260423T094618
CREATED:20220425T164620Z
LAST-MODIFIED:20220425T164620Z
UID:13268-1666483200-1666569599@specialedfoundation.com
SUMMARY:วันปิยมหาราช
DESCRIPTION:วันปิยมหาราช
URL:https://specialedfoundation.com/event/%e0%b8%a7%e0%b8%b1%e0%b8%99%e0%b8%9b%e0%b8%b4%e0%b8%a2%e0%b8%a1%e0%b8%ab%e0%b8%b2%e0%b8%a3%e0%b8%b2%e0%b8%8a/
CATEGORIES:วันสำคัญของไทย
END:VEVENT
BEGIN:VEVENT
DTSTART;VALUE=DATE:20221024
DTEND;VALUE=DATE:20221025
DTSTAMP:20260423T094618
CREATED:20220425T164655Z
LAST-MODIFIED:20220425T164655Z
UID:13270-1666569600-1666655999@specialedfoundation.com
SUMMARY:วันสหประชาชาติ
DESCRIPTION:วันสหประชาชาติ
URL:https://specialedfoundation.com/event/%e0%b8%a7%e0%b8%b1%e0%b8%99%e0%b8%aa%e0%b8%ab%e0%b8%9b%e0%b8%a3%e0%b8%b0%e0%b8%8a%e0%b8%b2%e0%b8%8a%e0%b8%b2%e0%b8%95%e0%b8%b4/
CATEGORIES:วันสำคัญสากล
END:VEVENT
BEGIN:VEVENT
DTSTART;VALUE=DATE:20221031
DTEND;VALUE=DATE:20221101
DTSTAMP:20260423T094618
CREATED:20220425T164744Z
LAST-MODIFIED:20220425T164744Z
UID:13272-1667174400-1667260799@specialedfoundation.com
SUMMARY:วันฮาโลวีน / วันออมแห่งชาติ
DESCRIPTION:วันฮาโลวีน / วันออมแห่งชาติ
URL:https://specialedfoundation.com/event/%e0%b8%a7%e0%b8%b1%e0%b8%99%e0%b8%ae%e0%b8%b2%e0%b9%82%e0%b8%a5%e0%b8%a7%e0%b8%b5%e0%b8%99-%e0%b8%a7%e0%b8%b1%e0%b8%99%e0%b8%ad%e0%b8%ad%e0%b8%a1%e0%b9%81%e0%b8%ab%e0%b9%88%e0%b8%87%e0%b8%8a/
CATEGORIES:วันสำคัญของไทย,วันสำคัญสากล
END:VEVENT
END:VCALENDAR