BEGIN:VCALENDAR
VERSION:2.0
PRODID:-//มูลนิธิเพื่อการศึกษาพิเศษในพระราชูปถัมภ์ฯ - Special Education Foundation, Thailand - ECPv5.14.1//NONSGML v1.0//EN
CALSCALE:GREGORIAN
METHOD:PUBLISH
X-WR-CALNAME:มูลนิธิเพื่อการศึกษาพิเศษในพระราชูปถัมภ์ฯ - Special Education Foundation, Thailand
X-ORIGINAL-URL:https://specialedfoundation.com
X-WR-CALDESC:Events for มูลนิธิเพื่อการศึกษาพิเศษในพระราชูปถัมภ์ฯ - Special Education Foundation, Thailand
REFRESH-INTERVAL;VALUE=DURATION:PT1H
X-Robots-Tag:noindex
X-PUBLISHED-TTL:PT1H
BEGIN:VTIMEZONE
TZID:Asia/Bangkok
BEGIN:STANDARD
TZOFFSETFROM:+0700
TZOFFSETTO:+0700
TZNAME:+07
DTSTART:20220101T000000
END:STANDARD
END:VTIMEZONE
BEGIN:VEVENT
DTSTART;VALUE=DATE:20221107
DTEND;VALUE=DATE:20221108
DTSTAMP:20260423T080548
CREATED:20220425T164848Z
LAST-MODIFIED:20220425T164848Z
UID:13274-1667779200-1667865599@specialedfoundation.com
SUMMARY:วันลอยกระทง
DESCRIPTION:วันลอยกระทง
URL:https://specialedfoundation.com/event/%e0%b8%a7%e0%b8%b1%e0%b8%99%e0%b8%a5%e0%b8%ad%e0%b8%a2%e0%b8%81%e0%b8%a3%e0%b8%b0%e0%b8%97%e0%b8%87/
CATEGORIES:วันสำคัญของไทย
END:VEVENT
BEGIN:VEVENT
DTSTART;VALUE=DATE:20221112
DTEND;VALUE=DATE:20221113
DTSTAMP:20260423T080548
CREATED:20220425T164927Z
LAST-MODIFIED:20220425T164927Z
UID:13276-1668211200-1668297599@specialedfoundation.com
SUMMARY:วันคนพิการแห่งชาติ
DESCRIPTION:วันคนพิการแห่งชาติ
URL:https://specialedfoundation.com/event/%e0%b8%a7%e0%b8%b1%e0%b8%99%e0%b8%84%e0%b8%99%e0%b8%9e%e0%b8%b4%e0%b8%81%e0%b8%b2%e0%b8%a3%e0%b9%81%e0%b8%ab%e0%b9%88%e0%b8%87%e0%b8%8a%e0%b8%b2%e0%b8%95%e0%b8%b4/
CATEGORIES:วันสำคัญของไทย
END:VEVENT
BEGIN:VEVENT
DTSTART;VALUE=DATE:20221114
DTEND;VALUE=DATE:20221115
DTSTAMP:20260423T080548
CREATED:20220425T165012Z
LAST-MODIFIED:20220425T165012Z
UID:13278-1668384000-1668470399@specialedfoundation.com
SUMMARY:วันพระบิดาแห่งฝนหลวง / วันเบาหวานโลก
DESCRIPTION:วันพระบิดาแห่งฝนหลวง / วันเบาหวานโลก
URL:https://specialedfoundation.com/event/%e0%b8%a7%e0%b8%b1%e0%b8%99%e0%b8%9e%e0%b8%a3%e0%b8%b0%e0%b8%9a%e0%b8%b4%e0%b8%94%e0%b8%b2%e0%b9%81%e0%b8%ab%e0%b9%88%e0%b8%87%e0%b8%9d%e0%b8%99%e0%b8%ab%e0%b8%a5%e0%b8%a7%e0%b8%87-%e0%b8%a7/
CATEGORIES:วันสำคัญของไทย,วันสำคัญสากล
END:VEVENT
BEGIN:VEVENT
DTSTART;VALUE=DATE:20221120
DTEND;VALUE=DATE:20221121
DTSTAMP:20260423T080548
CREATED:20220425T165050Z
LAST-MODIFIED:20220425T165050Z
UID:13280-1668902400-1668988799@specialedfoundation.com
SUMMARY:วันกองทัพเรือ
DESCRIPTION:วันกองทัพเรือ
URL:https://specialedfoundation.com/event/%e0%b8%a7%e0%b8%b1%e0%b8%99%e0%b8%81%e0%b8%ad%e0%b8%87%e0%b8%97%e0%b8%b1%e0%b8%9e%e0%b9%80%e0%b8%a3%e0%b8%b7%e0%b8%ad/
CATEGORIES:วันสำคัญของไทย
END:VEVENT
BEGIN:VEVENT
DTSTART;VALUE=DATE:20221125
DTEND;VALUE=DATE:20221126
DTSTAMP:20260423T080548
CREATED:20220425T165135Z
LAST-MODIFIED:20220425T165135Z
UID:13282-1669334400-1669420799@specialedfoundation.com
SUMMARY:วันวชิราวุธ / วันประถมศึกษาแห่งชาติ
DESCRIPTION:วันวชิราวุธ / วันประถมศึกษาแห่งชาติ
URL:https://specialedfoundation.com/event/%e0%b8%a7%e0%b8%b1%e0%b8%99%e0%b8%a7%e0%b8%8a%e0%b8%b4%e0%b8%a3%e0%b8%b2%e0%b8%a7%e0%b8%b8%e0%b8%98-%e0%b8%a7%e0%b8%b1%e0%b8%99%e0%b8%9b%e0%b8%a3%e0%b8%b0%e0%b8%96%e0%b8%a1%e0%b8%a8%e0%b8%b6/
CATEGORIES:วันสำคัญของไทย
END:VEVENT
BEGIN:VEVENT
DTSTART;VALUE=DATE:20221127
DTEND;VALUE=DATE:20221128
DTSTAMP:20260423T080548
CREATED:20220425T165209Z
LAST-MODIFIED:20220425T165209Z
UID:13284-1669507200-1669593599@specialedfoundation.com
SUMMARY:วันสาธารณสุขแห่งชาติ
DESCRIPTION:วันสาธารณสุขแห่งชาติ
URL:https://specialedfoundation.com/event/%e0%b8%a7%e0%b8%b1%e0%b8%99%e0%b8%aa%e0%b8%b2%e0%b8%98%e0%b8%b2%e0%b8%a3%e0%b8%93%e0%b8%aa%e0%b8%b8%e0%b8%82%e0%b9%81%e0%b8%ab%e0%b9%88%e0%b8%87%e0%b8%8a%e0%b8%b2%e0%b8%95%e0%b8%b4/
CATEGORIES:วันสำคัญของไทย
END:VEVENT
END:VCALENDAR