BEGIN:VCALENDAR
VERSION:2.0
PRODID:-//มูลนิธิเพื่อการศึกษาพิเศษในพระราชูปถัมภ์ฯ - Special Education Foundation, Thailand - ECPv5.14.1//NONSGML v1.0//EN
CALSCALE:GREGORIAN
METHOD:PUBLISH
X-WR-CALNAME:มูลนิธิเพื่อการศึกษาพิเศษในพระราชูปถัมภ์ฯ - Special Education Foundation, Thailand
X-ORIGINAL-URL:https://specialedfoundation.com
X-WR-CALDESC:Events for มูลนิธิเพื่อการศึกษาพิเศษในพระราชูปถัมภ์ฯ - Special Education Foundation, Thailand
REFRESH-INTERVAL;VALUE=DURATION:PT1H
X-Robots-Tag:noindex
X-PUBLISHED-TTL:PT1H
BEGIN:VTIMEZONE
TZID:Asia/Bangkok
BEGIN:STANDARD
TZOFFSETFROM:+0700
TZOFFSETTO:+0700
TZNAME:+07
DTSTART:20230101T000000
END:STANDARD
END:VTIMEZONE
BEGIN:VEVENT
DTSTART;VALUE=DATE:20230101
DTEND;VALUE=DATE:20230102
DTSTAMP:20260423T080547
CREATED:20230110T023255Z
LAST-MODIFIED:20230110T023255Z
UID:13609-1672531200-1672617599@specialedfoundation.com
SUMMARY:วันขึ้นปีใหม่
DESCRIPTION:วันขึ้นปีใหม่
URL:https://specialedfoundation.com/event/%e0%b8%a7%e0%b8%b1%e0%b8%99%e0%b8%82%e0%b8%b6%e0%b9%89%e0%b8%99%e0%b8%9b%e0%b8%b5%e0%b9%83%e0%b8%ab%e0%b8%a1%e0%b9%88/
CATEGORIES:วันสำคัญสากล
END:VEVENT
BEGIN:VEVENT
DTSTART;VALUE=DATE:20230105
DTEND;VALUE=DATE:20230106
DTSTAMP:20260423T080547
CREATED:20230110T023916Z
LAST-MODIFIED:20230110T023916Z
UID:13619-1672876800-1672963199@specialedfoundation.com
SUMMARY:วันนกแห่งชาติ
DESCRIPTION:วันนกแห่งชาติ
URL:https://specialedfoundation.com/event/%e0%b8%a7%e0%b8%b1%e0%b8%99%e0%b8%99%e0%b8%81%e0%b9%81%e0%b8%ab%e0%b9%88%e0%b8%87%e0%b8%8a%e0%b8%b2%e0%b8%95%e0%b8%b4/
CATEGORIES:วันสำคัญของไทย
END:VEVENT
BEGIN:VEVENT
DTSTART;VALUE=DATE:20230108
DTEND;VALUE=DATE:20230109
DTSTAMP:20260423T080547
CREATED:20230110T023347Z
LAST-MODIFIED:20230110T023347Z
UID:13611-1673136000-1673222399@specialedfoundation.com
SUMMARY:วันคล้ายวันประสูติ สมเด็จพระเจ้าลูกเธอ เจ้าฟ้าสิริวัณณวรี นารีรัตนราชกัญญา
DESCRIPTION:วันคล้ายวันประสูติ สมเด็จพระเจ้าลูกเธอ เจ้าฟ้าสิริวัณณวรี นารีรัตนราชกัญญา
URL:https://specialedfoundation.com/event/%e0%b8%a7%e0%b8%b1%e0%b8%99%e0%b8%84%e0%b8%a5%e0%b9%89%e0%b8%b2%e0%b8%a2%e0%b8%a7%e0%b8%b1%e0%b8%99%e0%b8%9b%e0%b8%a3%e0%b8%b0%e0%b8%aa%e0%b8%b9%e0%b8%95%e0%b8%b4-%e0%b8%aa%e0%b8%a1%e0%b9%80-3/
CATEGORIES:วันสำคัญของไทย
END:VEVENT
BEGIN:VEVENT
DTSTART;VALUE=DATE:20230113
DTEND;VALUE=DATE:20230114
DTSTAMP:20260423T080547
CREATED:20230110T023442Z
LAST-MODIFIED:20230110T023442Z
UID:13613-1673568000-1673654399@specialedfoundation.com
SUMMARY:วันการบินแห่งชาติ
DESCRIPTION:วันการบินแห่งชาติ
URL:https://specialedfoundation.com/event/%e0%b8%a7%e0%b8%b1%e0%b8%99%e0%b8%81%e0%b8%b2%e0%b8%a3%e0%b8%9a%e0%b8%b4%e0%b8%99%e0%b9%81%e0%b8%ab%e0%b9%88%e0%b8%87%e0%b8%8a%e0%b8%b2%e0%b8%95%e0%b8%b4/
CATEGORIES:วันสำคัญของไทย
END:VEVENT
BEGIN:VEVENT
DTSTART;VALUE=DATE:20230114
DTEND;VALUE=DATE:20230115
DTSTAMP:20260423T080547
CREATED:20230110T023528Z
LAST-MODIFIED:20230110T023528Z
UID:13615-1673654400-1673740799@specialedfoundation.com
SUMMARY:วันเด็ก / วันอนุรักษ์ทรัพยากรป่าไม้ของชาติ
DESCRIPTION:วันเด็ก / วันอนุรักษ์ทรัพยากรป่าไม้ของชาติ
URL:https://specialedfoundation.com/event/%e0%b8%a7%e0%b8%b1%e0%b8%99%e0%b9%80%e0%b8%94%e0%b9%87%e0%b8%81-%e0%b8%a7%e0%b8%b1%e0%b8%99%e0%b8%ad%e0%b8%99%e0%b8%b8%e0%b8%a3%e0%b8%b1%e0%b8%81%e0%b8%a9%e0%b9%8c%e0%b8%97%e0%b8%a3%e0%b8%b1/
CATEGORIES:วันสำคัญของไทย
END:VEVENT
BEGIN:VEVENT
DTSTART;VALUE=DATE:20230116
DTEND;VALUE=DATE:20230117
DTSTAMP:20260423T080547
CREATED:20230110T023841Z
LAST-MODIFIED:20230110T023841Z
UID:13617-1673827200-1673913599@specialedfoundation.com
SUMMARY:วันครู
DESCRIPTION:วันครู
URL:https://specialedfoundation.com/event/%e0%b8%a7%e0%b8%b1%e0%b8%99%e0%b8%84%e0%b8%a3%e0%b8%b9/
CATEGORIES:วันสำคัญของไทย
END:VEVENT
BEGIN:VEVENT
DTSTART;VALUE=DATE:20230117
DTEND;VALUE=DATE:20230118
DTSTAMP:20260423T080547
CREATED:20230110T023949Z
LAST-MODIFIED:20230110T023949Z
UID:13621-1673913600-1673999999@specialedfoundation.com
SUMMARY:วันพ่อขุนรามคำแหงมหาราช / วันโคนมแห่งชาติ
DESCRIPTION:วันพ่อขุนรามคำแหงมหาราช / วันโคนมแห่งชาติ
URL:https://specialedfoundation.com/event/%e0%b8%a7%e0%b8%b1%e0%b8%99%e0%b8%9e%e0%b9%88%e0%b8%ad%e0%b8%82%e0%b8%b8%e0%b8%99%e0%b8%a3%e0%b8%b2%e0%b8%a1%e0%b8%84%e0%b8%b3%e0%b9%81%e0%b8%ab%e0%b8%87%e0%b8%a1%e0%b8%ab%e0%b8%b2%e0%b8%a3%e0%b8%b2/
CATEGORIES:วันสำคัญของไทย
END:VEVENT
BEGIN:VEVENT
DTSTART;VALUE=DATE:20230118
DTEND;VALUE=DATE:20230119
DTSTAMP:20260423T080547
CREATED:20230110T024022Z
LAST-MODIFIED:20230110T024022Z
UID:13623-1674000000-1674086399@specialedfoundation.com
SUMMARY:วันยุทธหัตถี / วันสมเด็จพระนเรศวรมหาราช / วันกองทัพไทย / วันกองทัพบก
DESCRIPTION:วันยุทธหัตถี / วันสมเด็จพระนเรศวรมหาราช / วันกองทัพไทย / วันกองทัพบก
URL:https://specialedfoundation.com/event/%e0%b8%a7%e0%b8%b1%e0%b8%99%e0%b8%a2%e0%b8%b8%e0%b8%97%e0%b8%98%e0%b8%ab%e0%b8%b1%e0%b8%95%e0%b8%96%e0%b8%b5-%e0%b8%a7%e0%b8%b1%e0%b8%99%e0%b8%aa%e0%b8%a1%e0%b9%80%e0%b8%94%e0%b9%87%e0%b8%88/
CATEGORIES:วันสำคัญของไทย
END:VEVENT
BEGIN:VEVENT
DTSTART;VALUE=DATE:20230122
DTEND;VALUE=DATE:20230123
DTSTAMP:20260423T080547
CREATED:20230110T024059Z
LAST-MODIFIED:20230110T024059Z
UID:13625-1674345600-1674431999@specialedfoundation.com
SUMMARY:วันตรุษจีน
DESCRIPTION:วันตรุษจีน
URL:https://specialedfoundation.com/event/%e0%b8%a7%e0%b8%b1%e0%b8%99%e0%b8%95%e0%b8%a3%e0%b8%b8%e0%b8%a9%e0%b8%88%e0%b8%b5%e0%b8%99/
CATEGORIES:วันสำคัญของไทย,วันสำคัญสากล
END:VEVENT
END:VCALENDAR