BEGIN:VCALENDAR
VERSION:2.0
PRODID:-//มูลนิธิเพื่อการศึกษาพิเศษในพระราชูปถัมภ์ฯ - Special Education Foundation, Thailand - ECPv5.14.1//NONSGML v1.0//EN
CALSCALE:GREGORIAN
METHOD:PUBLISH
X-WR-CALNAME:มูลนิธิเพื่อการศึกษาพิเศษในพระราชูปถัมภ์ฯ - Special Education Foundation, Thailand
X-ORIGINAL-URL:https://specialedfoundation.com
X-WR-CALDESC:Events for มูลนิธิเพื่อการศึกษาพิเศษในพระราชูปถัมภ์ฯ - Special Education Foundation, Thailand
REFRESH-INTERVAL;VALUE=DURATION:PT1H
X-Robots-Tag:noindex
X-PUBLISHED-TTL:PT1H
BEGIN:VTIMEZONE
TZID:Asia/Bangkok
BEGIN:STANDARD
TZOFFSETFROM:+0700
TZOFFSETTO:+0700
TZNAME:+07
DTSTART:20230101T000000
END:STANDARD
END:VTIMEZONE
BEGIN:VEVENT
DTSTART;VALUE=DATE:20230202
DTEND;VALUE=DATE:20230203
DTSTAMP:20260422T035716
CREATED:20230110T024203Z
LAST-MODIFIED:20230110T024203Z
UID:13627-1675296000-1675382399@specialedfoundation.com
SUMMARY:วันนักประดิษฐ์ / วันเกษตรแห่งชาติ / วันพื้นที่ชุ่มน้ำโลก
DESCRIPTION:วันนักประดิษฐ์ / วันเกษตรแห่งชาติ / วันพื้นที่ชุ่มน้ำโลก
URL:https://specialedfoundation.com/event/%e0%b8%a7%e0%b8%b1%e0%b8%99%e0%b8%99%e0%b8%b1%e0%b8%81%e0%b8%9b%e0%b8%a3%e0%b8%b0%e0%b8%94%e0%b8%b4%e0%b8%a9%e0%b8%90%e0%b9%8c-%e0%b8%a7%e0%b8%b1%e0%b8%99%e0%b9%80%e0%b8%81%e0%b8%a9%e0%b8%95/
CATEGORIES:วันสำคัญของไทย
END:VEVENT
BEGIN:VEVENT
DTSTART;VALUE=DATE:20230203
DTEND;VALUE=DATE:20230204
DTSTAMP:20260422T035716
CREATED:20230110T024242Z
LAST-MODIFIED:20230110T024242Z
UID:13629-1675382400-1675468799@specialedfoundation.com
SUMMARY:วันทหารผ่านศึก
DESCRIPTION:วันทหารผ่านศึก
URL:https://specialedfoundation.com/event/%e0%b8%a7%e0%b8%b1%e0%b8%99%e0%b8%97%e0%b8%ab%e0%b8%b2%e0%b8%a3%e0%b8%9c%e0%b9%88%e0%b8%b2%e0%b8%99%e0%b8%a8%e0%b8%b6%e0%b8%81/
CATEGORIES:วันสำคัญของไทย
END:VEVENT
BEGIN:VEVENT
DTSTART;VALUE=DATE:20230204
DTEND;VALUE=DATE:20230205
DTSTAMP:20260422T035716
CREATED:20230110T024323Z
LAST-MODIFIED:20230110T024323Z
UID:13631-1675468800-1675555199@specialedfoundation.com
SUMMARY:วันมะเร็งโลก
DESCRIPTION:วันมะเร็งโลก
URL:https://specialedfoundation.com/event/%e0%b8%a7%e0%b8%b1%e0%b8%99%e0%b8%a1%e0%b8%b0%e0%b9%80%e0%b8%a3%e0%b9%87%e0%b8%87%e0%b9%82%e0%b8%a5%e0%b8%81/
CATEGORIES:วันสำคัญสากล
END:VEVENT
BEGIN:VEVENT
DTSTART;VALUE=DATE:20230210
DTEND;VALUE=DATE:20230211
DTSTAMP:20260422T035716
CREATED:20230110T024407Z
LAST-MODIFIED:20230110T024407Z
UID:13633-1675987200-1676073599@specialedfoundation.com
SUMMARY:วันอาสารักษาดินแดน
DESCRIPTION:วันอาสารักษาดินแดน
URL:https://specialedfoundation.com/event/%e0%b8%a7%e0%b8%b1%e0%b8%99%e0%b8%ad%e0%b8%b2%e0%b8%aa%e0%b8%b2%e0%b8%a3%e0%b8%b1%e0%b8%81%e0%b8%a9%e0%b8%b2%e0%b8%94%e0%b8%b4%e0%b8%99%e0%b9%81%e0%b8%94%e0%b8%99/
CATEGORIES:วันสำคัญของไทย
END:VEVENT
BEGIN:VEVENT
DTSTART;VALUE=DATE:20230214
DTEND;VALUE=DATE:20230215
DTSTAMP:20260422T035716
CREATED:20230110T024441Z
LAST-MODIFIED:20230110T024441Z
UID:13635-1676332800-1676419199@specialedfoundation.com
SUMMARY:วันวาเลนไทน์
DESCRIPTION:วันวาเลนไทน์
URL:https://specialedfoundation.com/event/%e0%b8%a7%e0%b8%b1%e0%b8%99%e0%b8%a7%e0%b8%b2%e0%b9%80%e0%b8%a5%e0%b8%99%e0%b9%84%e0%b8%97%e0%b8%99%e0%b9%8c/
CATEGORIES:วันสำคัญสากล
END:VEVENT
BEGIN:VEVENT
DTSTART;VALUE=DATE:20230224
DTEND;VALUE=DATE:20230225
DTSTAMP:20260422T035716
CREATED:20230110T024519Z
LAST-MODIFIED:20230110T024519Z
UID:13637-1677196800-1677283199@specialedfoundation.com
SUMMARY:วันศิลปินแห่งชาติ
DESCRIPTION:วันศิลปินแห่งชาติ
URL:https://specialedfoundation.com/event/%e0%b8%a7%e0%b8%b1%e0%b8%99%e0%b8%a8%e0%b8%b4%e0%b8%a5%e0%b8%9b%e0%b8%b4%e0%b8%99%e0%b9%81%e0%b8%ab%e0%b9%88%e0%b8%87%e0%b8%8a%e0%b8%b2%e0%b8%95%e0%b8%b4/
CATEGORIES:วันสำคัญของไทย
END:VEVENT
BEGIN:VEVENT
DTSTART;VALUE=DATE:20230225
DTEND;VALUE=DATE:20230226
DTSTAMP:20260422T035716
CREATED:20230110T024550Z
LAST-MODIFIED:20230110T024550Z
UID:13639-1677283200-1677369599@specialedfoundation.com
SUMMARY:วันวิทยุกระจายเสียงแห่งชาติ
DESCRIPTION:วันวิทยุกระจายเสียงแห่งชาติ
URL:https://specialedfoundation.com/event/%e0%b8%a7%e0%b8%b1%e0%b8%99%e0%b8%a7%e0%b8%b4%e0%b8%97%e0%b8%a2%e0%b8%b8%e0%b8%81%e0%b8%a3%e0%b8%b0%e0%b8%88%e0%b8%b2%e0%b8%a2%e0%b9%80%e0%b8%aa%e0%b8%b5%e0%b8%a2%e0%b8%87%e0%b9%81%e0%b8%ab%e0%b9%88/
CATEGORIES:วันสำคัญของไทย
END:VEVENT
BEGIN:VEVENT
DTSTART;VALUE=DATE:20230226
DTEND;VALUE=DATE:20230227
DTSTAMP:20260422T035716
CREATED:20230110T024619Z
LAST-MODIFIED:20230110T024619Z
UID:13641-1677369600-1677455999@specialedfoundation.com
SUMMARY:วันสหกรณ์แห่งชาติ
DESCRIPTION:วันสหกรณ์แห่งชาติ
URL:https://specialedfoundation.com/event/%e0%b8%a7%e0%b8%b1%e0%b8%99%e0%b8%aa%e0%b8%ab%e0%b8%81%e0%b8%a3%e0%b8%93%e0%b9%8c%e0%b9%81%e0%b8%ab%e0%b9%88%e0%b8%87%e0%b8%8a%e0%b8%b2%e0%b8%95%e0%b8%b4/
CATEGORIES:วันสำคัญของไทย
END:VEVENT
END:VCALENDAR