BEGIN:VCALENDAR
VERSION:2.0
PRODID:-//มูลนิธิเพื่อการศึกษาพิเศษในพระราชูปถัมภ์ฯ - Special Education Foundation, Thailand - ECPv5.14.1//NONSGML v1.0//EN
CALSCALE:GREGORIAN
METHOD:PUBLISH
X-WR-CALNAME:มูลนิธิเพื่อการศึกษาพิเศษในพระราชูปถัมภ์ฯ - Special Education Foundation, Thailand
X-ORIGINAL-URL:https://specialedfoundation.com
X-WR-CALDESC:Events for มูลนิธิเพื่อการศึกษาพิเศษในพระราชูปถัมภ์ฯ - Special Education Foundation, Thailand
REFRESH-INTERVAL;VALUE=DURATION:PT1H
X-Robots-Tag:noindex
X-PUBLISHED-TTL:PT1H
BEGIN:VTIMEZONE
TZID:Asia/Bangkok
BEGIN:STANDARD
TZOFFSETFROM:+0700
TZOFFSETTO:+0700
TZNAME:+07
DTSTART:20230101T000000
END:STANDARD
END:VTIMEZONE
BEGIN:VEVENT
DTSTART;VALUE=DATE:20230601
DTEND;VALUE=DATE:20230602
DTSTAMP:20260421T174637
CREATED:20230110T031755Z
LAST-MODIFIED:20230110T031755Z
UID:13727-1685577600-1685663999@specialedfoundation.com
SUMMARY:วันดื่มนมโลก
DESCRIPTION:วันดื่มนมโลก
URL:https://specialedfoundation.com/event/%e0%b8%a7%e0%b8%b1%e0%b8%99%e0%b8%94%e0%b8%b7%e0%b9%88%e0%b8%a1%e0%b8%99%e0%b8%a1%e0%b9%82%e0%b8%a5%e0%b8%81/
CATEGORIES:วันสำคัญสากล
END:VEVENT
BEGIN:VEVENT
DTSTART;VALUE=DATE:20230603
DTEND;VALUE=DATE:20230604
DTSTAMP:20260421T174637
CREATED:20230110T031850Z
LAST-MODIFIED:20230110T031850Z
UID:13729-1685750400-1685836799@specialedfoundation.com
SUMMARY:วันวิสาขบูชา / วันเฉลิมพระชนมพรรษาสมเด็จพระนางเจ้าฯ พระบรมราชินี
DESCRIPTION:วันวิสาขบูชา / วันเฉลิมพระชนมพรรษาสมเด็จพระนางเจ้าฯ พระบรมราชินี
URL:https://specialedfoundation.com/event/%e0%b8%a7%e0%b8%b1%e0%b8%99%e0%b8%a7%e0%b8%b4%e0%b8%aa%e0%b8%b2%e0%b8%82%e0%b8%9a%e0%b8%b9%e0%b8%8a%e0%b8%b2-%e0%b8%a7%e0%b8%b1%e0%b8%99%e0%b9%80%e0%b8%89%e0%b8%a5%e0%b8%b4%e0%b8%a1%e0%b8%9e/
CATEGORIES:วันสำคัญของไทย,วันสำคัญสากล
END:VEVENT
BEGIN:VEVENT
DTSTART;VALUE=DATE:20230605
DTEND;VALUE=DATE:20230606
DTSTAMP:20260421T174637
CREATED:20230110T031926Z
LAST-MODIFIED:20230110T031926Z
UID:13731-1685923200-1686009599@specialedfoundation.com
SUMMARY:วันสิ่งแวดล้อมโลก
DESCRIPTION:วันสิ่งแวดล้อมโลก
URL:https://specialedfoundation.com/event/%e0%b8%a7%e0%b8%b1%e0%b8%99%e0%b8%aa%e0%b8%b4%e0%b9%88%e0%b8%87%e0%b9%81%e0%b8%a7%e0%b8%94%e0%b8%a5%e0%b9%89%e0%b8%ad%e0%b8%a1%e0%b9%82%e0%b8%a5%e0%b8%81-2/
CATEGORIES:วันสำคัญสากล
END:VEVENT
BEGIN:VEVENT
DTSTART;VALUE=DATE:20230607
DTEND;VALUE=DATE:20230608
DTSTAMP:20260421T174637
CREATED:20230110T032003Z
LAST-MODIFIED:20230110T032003Z
UID:13733-1686096000-1686182399@specialedfoundation.com
SUMMARY:วันวิ่งโลก
DESCRIPTION:วันวิ่งโลก
URL:https://specialedfoundation.com/event/%e0%b8%a7%e0%b8%b1%e0%b8%99%e0%b8%a7%e0%b8%b4%e0%b9%88%e0%b8%87%e0%b9%82%e0%b8%a5%e0%b8%81/
CATEGORIES:วันสำคัญสากล
END:VEVENT
BEGIN:VEVENT
DTSTART;VALUE=DATE:20230608
DTEND;VALUE=DATE:20230609
DTSTAMP:20260421T174637
CREATED:20230110T032037Z
LAST-MODIFIED:20230110T032037Z
UID:13735-1686182400-1686268799@specialedfoundation.com
SUMMARY:วันมหาสมุทรโลก หรือวันทะเลโลก / วันเพื่อนสนิทสากล
DESCRIPTION:วันมหาสมุทรโลก หรือวันทะเลโลก / วันเพื่อนสนิทสากล
URL:https://specialedfoundation.com/event/%e0%b8%a7%e0%b8%b1%e0%b8%99%e0%b8%a1%e0%b8%ab%e0%b8%b2%e0%b8%aa%e0%b8%a1%e0%b8%b8%e0%b8%97%e0%b8%a3%e0%b9%82%e0%b8%a5%e0%b8%81-%e0%b8%ab%e0%b8%a3%e0%b8%b7%e0%b8%ad%e0%b8%a7%e0%b8%b1%e0%b8%99%e0%b8%97/
CATEGORIES:วันสำคัญสากล
END:VEVENT
BEGIN:VEVENT
DTSTART;VALUE=DATE:20230609
DTEND;VALUE=DATE:20230610
DTSTAMP:20260421T174637
CREATED:20230110T032108Z
LAST-MODIFIED:20230110T032108Z
UID:13737-1686268800-1686355199@specialedfoundation.com
SUMMARY:วันอานันทมหิดล
DESCRIPTION:วันอานันทมหิดล
URL:https://specialedfoundation.com/event/%e0%b8%a7%e0%b8%b1%e0%b8%99%e0%b8%ad%e0%b8%b2%e0%b8%99%e0%b8%b1%e0%b8%99%e0%b8%97%e0%b8%a1%e0%b8%ab%e0%b8%b4%e0%b8%94%e0%b8%a5-2/
CATEGORIES:วันสำคัญของไทย
END:VEVENT
BEGIN:VEVENT
DTSTART;VALUE=DATE:20230611
DTEND;VALUE=DATE:20230612
DTSTAMP:20260421T174637
CREATED:20230110T032135Z
LAST-MODIFIED:20230110T032135Z
UID:13739-1686441600-1686527999@specialedfoundation.com
SUMMARY:วันอัฏฐมีบูชา
DESCRIPTION:วันอัฏฐมีบูชา
URL:https://specialedfoundation.com/event/%e0%b8%a7%e0%b8%b1%e0%b8%99%e0%b8%ad%e0%b8%b1%e0%b8%8f%e0%b8%90%e0%b8%a1%e0%b8%b5%e0%b8%9a%e0%b8%b9%e0%b8%8a%e0%b8%b2/
CATEGORIES:วันสำคัญของไทย
END:VEVENT
BEGIN:VEVENT
DTSTART;VALUE=DATE:20230612
DTEND;VALUE=DATE:20230613
DTSTAMP:20260421T174637
CREATED:20230110T032201Z
LAST-MODIFIED:20230110T032201Z
UID:13741-1686528000-1686614399@specialedfoundation.com
SUMMARY:วันต่อต้านการใช้แรงงานเด็กสากล
DESCRIPTION:วันต่อต้านการใช้แรงงานเด็กสากล
URL:https://specialedfoundation.com/event/%e0%b8%a7%e0%b8%b1%e0%b8%99%e0%b8%95%e0%b9%88%e0%b8%ad%e0%b8%95%e0%b9%89%e0%b8%b2%e0%b8%99%e0%b8%81%e0%b8%b2%e0%b8%a3%e0%b9%83%e0%b8%8a%e0%b9%89%e0%b9%81%e0%b8%a3%e0%b8%87%e0%b8%87%e0%b8%b2%e0%b8%99/
CATEGORIES:วันสำคัญสากล
END:VEVENT
BEGIN:VEVENT
DTSTART;VALUE=DATE:20230616
DTEND;VALUE=DATE:20230617
DTSTAMP:20260421T174637
CREATED:20230110T032237Z
LAST-MODIFIED:20230110T032237Z
UID:13743-1686873600-1686959999@specialedfoundation.com
SUMMARY:วันหยุดการกลั่นแกล้งบนโลกออนไลน์
DESCRIPTION:วันหยุดการกลั่นแกล้งบนโลกออนไลน์
URL:https://specialedfoundation.com/event/%e0%b8%a7%e0%b8%b1%e0%b8%99%e0%b8%ab%e0%b8%a2%e0%b8%b8%e0%b8%94%e0%b8%81%e0%b8%b2%e0%b8%a3%e0%b8%81%e0%b8%a5%e0%b8%b1%e0%b9%88%e0%b8%99%e0%b9%81%e0%b8%81%e0%b8%a5%e0%b9%89%e0%b8%87%e0%b8%9a%e0%b8%99/
CATEGORIES:วันสำคัญสากล
END:VEVENT
BEGIN:VEVENT
DTSTART;VALUE=DATE:20230617
DTEND;VALUE=DATE:20230618
DTSTAMP:20260421T174637
CREATED:20230110T032352Z
LAST-MODIFIED:20230110T032352Z
UID:13745-1686960000-1687046399@specialedfoundation.com
SUMMARY:วันต่อต้านปัญหาภัยแล้งและฝนแล้งของโลก
DESCRIPTION:วันต่อต้านปัญหาภัยแล้งและฝนแล้งของโลก
URL:https://specialedfoundation.com/event/%e0%b8%a7%e0%b8%b1%e0%b8%99%e0%b8%95%e0%b9%88%e0%b8%ad%e0%b8%95%e0%b9%89%e0%b8%b2%e0%b8%99%e0%b8%9b%e0%b8%b1%e0%b8%8d%e0%b8%ab%e0%b8%b2%e0%b8%a0%e0%b8%b1%e0%b8%a2%e0%b9%81%e0%b8%a5%e0%b9%89%e0%b8%87/
CATEGORIES:วันสำคัญสากล
END:VEVENT
BEGIN:VEVENT
DTSTART;VALUE=DATE:20230620
DTEND;VALUE=DATE:20230621
DTSTAMP:20260421T174637
CREATED:20230110T032525Z
LAST-MODIFIED:20230110T032525Z
UID:13747-1687219200-1687305599@specialedfoundation.com
SUMMARY:วันผู้ลี้ภัยโลก
DESCRIPTION:วันผู้ลี้ภัยโลก
URL:https://specialedfoundation.com/event/%e0%b8%a7%e0%b8%b1%e0%b8%99%e0%b8%9c%e0%b8%b9%e0%b9%89%e0%b8%a5%e0%b8%b5%e0%b9%89%e0%b8%a0%e0%b8%b1%e0%b8%a2%e0%b9%82%e0%b8%a5%e0%b8%81/
CATEGORIES:วันสำคัญสากล
END:VEVENT
BEGIN:VEVENT
DTSTART;VALUE=DATE:20230621
DTEND;VALUE=DATE:20230622
DTSTAMP:20260421T174637
CREATED:20230110T032609Z
LAST-MODIFIED:20230110T032609Z
UID:13749-1687305600-1687391999@specialedfoundation.com
SUMMARY:วันโยคะสากล
DESCRIPTION:วันโยคะสากล
URL:https://specialedfoundation.com/event/%e0%b8%a7%e0%b8%b1%e0%b8%99%e0%b9%82%e0%b8%a2%e0%b8%84%e0%b8%b0%e0%b8%aa%e0%b8%b2%e0%b8%81%e0%b8%a5/
CATEGORIES:วันสำคัญสากล
END:VEVENT
BEGIN:VEVENT
DTSTART;VALUE=DATE:20230624
DTEND;VALUE=DATE:20230625
DTSTAMP:20260421T174637
CREATED:20230110T032645Z
LAST-MODIFIED:20230110T032645Z
UID:13751-1687564800-1687651199@specialedfoundation.com
SUMMARY:วันเปลี่ยนแปลงการปกครอง
DESCRIPTION:วันเปลี่ยนแปลงการปกครอง
URL:https://specialedfoundation.com/event/%e0%b8%a7%e0%b8%b1%e0%b8%99%e0%b9%80%e0%b8%9b%e0%b8%a5%e0%b8%b5%e0%b9%88%e0%b8%a2%e0%b8%99%e0%b9%81%e0%b8%9b%e0%b8%a5%e0%b8%87%e0%b8%81%e0%b8%b2%e0%b8%a3%e0%b8%9b%e0%b8%81%e0%b8%84%e0%b8%a3%e0%b8%ad/
CATEGORIES:วันสำคัญของไทย
END:VEVENT
BEGIN:VEVENT
DTSTART;VALUE=DATE:20230626
DTEND;VALUE=DATE:20230627
DTSTAMP:20260421T174637
CREATED:20230110T032717Z
LAST-MODIFIED:20230110T032717Z
UID:13753-1687737600-1687823999@specialedfoundation.com
SUMMARY:วันสุนทรภู่ / วันต่อต้านยาเสพติด
DESCRIPTION:วันสุนทรภู่ / วันต่อต้านยาเสพติด
URL:https://specialedfoundation.com/event/%e0%b8%a7%e0%b8%b1%e0%b8%99%e0%b8%aa%e0%b8%b8%e0%b8%99%e0%b8%97%e0%b8%a3%e0%b8%a0%e0%b8%b9%e0%b9%88-%e0%b8%a7%e0%b8%b1%e0%b8%99%e0%b8%95%e0%b9%88%e0%b8%ad%e0%b8%95%e0%b9%89%e0%b8%b2%e0%b8%99-2/
CATEGORIES:วันสำคัญของไทย
END:VEVENT
BEGIN:VEVENT
DTSTART;VALUE=DATE:20230628
DTEND;VALUE=DATE:20230629
DTSTAMP:20260421T174637
CREATED:20230110T032837Z
LAST-MODIFIED:20230110T032837Z
UID:13755-1687910400-1687996799@specialedfoundation.com
SUMMARY:วันทหารนาวิกโยธิน
DESCRIPTION:วันทหารนาวิกโยธิน
URL:https://specialedfoundation.com/event/%e0%b8%a7%e0%b8%b1%e0%b8%99%e0%b8%97%e0%b8%ab%e0%b8%b2%e0%b8%a3%e0%b8%99%e0%b8%b2%e0%b8%a7%e0%b8%b4%e0%b8%81%e0%b9%82%e0%b8%a2%e0%b8%98%e0%b8%b4%e0%b8%99/
CATEGORIES:วันสำคัญของไทย
END:VEVENT
END:VCALENDAR